Workbook

Sheet Sheet3
A1: AY 19-20 SKU | B1: Alt Item Description | C1: VENDOR | D1: AY 18-19 ALT
A2: 9565886 | B2: DESKPAD,AY,STND,CONTEMPO | C2: =VLOOKUP($A2,[1]By_SKU!$A$5:$J$55,10,FALSE) -> ACCO BRANDS CORP | D2: 850118 | F2: =VLOOKUP($A2,'[2]Retail Mix'!$A$4:$AE$291,21,FALSE) -> DESK PADS | G2: =VLOOKUP($A2,'[2]Retail Mix'!$A$4:$AE$291,30,FALSE) -> CONTEMPO | H2: =VLOOKUP($A2,'[2]Retail Mix'!$A$4:$AE$291,31,FALSE) -> CONSERVATIVE STYLE
A3: 9566269 | B3: PLANNER,HARMONY,WM,LG,BRY | C3: =VLOOKUP($A3,[1]By_SKU!$A$5:$J$55,10,FALSE) -> ACCO BRANDS CORP | D3: 610217 | F3: =VLOOKUP(A3,'[2]Retail Mix'!$A$4:$AE$291,21,FALSE) -> APPT. BOOKS/PLANNERS | G3: =VLOOKUP($A3,'[2]Retail Mix'!$A$4:$AE$291,30,FALSE) -> HARMONY | H3: =VLOOKUP($A3,'[2]Retail Mix'!$A$4:$AE$291,31,FALSE) -> CONSERVATIVE STYLE | I3: =VLOOKUP(A3,'[2]BSD Mix'!$A$4:$AJ$171,36,FALSE) -> LARGE
A4: 9566292 | B4: PLANNER,HARMONY,DM,MED,BRY | C4: =VLOOKUP($A4,[1]By_SKU!$A$5:$J$55,10,FALSE) -> ACCO BRANDS CORP | D4: 523515 | F4: =VLOOKUP(A4,'[2]Retail Mix'!$A$4:$AE$291,21,FALSE) -> APPT. BOOKS/PLANNERS | G4: =VLOOKUP($A4,'[2]Retail Mix'!$A$4:$AE$291,30,FALSE) -> HARMONY | H4: =VLOOKUP($A4,'[2]Retail Mix'!$A$4:$AE$291,31,FALSE) -> CONSERVATIVE STYLE | I4: =VLOOKUP(A4,'[2]BSD Mix'!$A$4:$AJ$171,36,FALSE) -> MEDIUM
A5: 6997013 | B5: BUTTERCUP,SMALL,WEEKLY/MONTHLY | C5: =VLOOKUP($A5,[1]By_SKU!$A$5:$J$55,10,FALSE) -> ACCO BRANDS CORP | D5: 249244 | F5: =VLOOKUP(A5,'[2]Retail Mix'!$A$4:$AE$291,21,FALSE) -> APPT. BOOKS/PLANNERS | G5: =VLOOKUP($A5,'[2]Retail Mix'!$A$4:$AE$291,30,FALSE) -> Buttercup | H5: =VLOOKUP($A5,'[2]Retail Mix'!$A$4:$AE$291,31,FALSE) -> DESIGN | I5: =VLOOKUP(A5,'[2]BSD Mix'!$A$4:$AJ$171,36,FALSE) -> SMALL
A6: 6995270 | B6: BADGE,STRIPE,2,YR,PLANNER | C6: =VLOOKUP($A6,[1]By_SKU!$A$5:$J$55,10,FALSE) -> ACCO BRANDS CORP | D6: 397931 | F6: =VLOOKUP(A6,'[2]Retail Mix'!$A$4:$AE$291,21,FALSE) -> APPT. BOOKS/PLANNERS | G6: =VLOOKUP($A6,'[2]Retail Mix'!$A$4:$AE$291,30,FALSE) -> BADGE STRIPE | H6: =VLOOKUP($A6,'[2]Retail Mix'!$A$4:$AE$291,31,FALSE) -> DESIGN | I6: =VLOOKUP(A6,'[2]BSD Mix'!$A$4:$AJ$171,36,FALSE) -> POCKET
A7: 6995627 | B7: IVORY,ELLA,SMALL,POLY,W/M | C7: =VLOOKUP($A7,[1]By_SKU!$A$5:$J$55,10,FALSE) -> ACCO BRANDS CORP | D7: 249244 | F7: =VLOOKUP(A7,'[2]Retail Mix'!$A$4:$AE$291,21,FALSE) -> APPT. BOOKS/PLANNERS | G7: =VLOOKUP($A7,'[2]Retail Mix'!$A$4:$AE$291,30,FALSE) -> Ivory Ella | H7: =VLOOKUP($A7,'[2]Retail Mix'!$A$4:$AE$291,31,FALSE) -> DESIGN | I7: =VLOOKUP(A7,'[2]BSD Mix'!$A$4:$AJ$171,36,FALSE) -> SMALL
A8: 6995645 | B8: IVORY,ELLA,LRG,W/M,POLY | C8: =VLOOKUP($A8,[1]By_SKU!$A$5:$J$55,10,FALSE) -> ACCO BRANDS CORP | D8: 870500 | F8: =VLOOKUP(A8,'[2]Retail Mix'!$A$4:$AE$291,21,FALSE) -> APPT. BOOKS/PLANNERS | G8: =VLOOKUP($A8,'[2]Retail Mix'!$A$4:$AE$291,30,FALSE) -> Ivory Ella | H8: =VLOOKUP($A8,'[2]Retail Mix'!$A$4:$AE$291,31,FALSE) -> DESIGN | I8: =VLOOKUP(A8,'[2]BSD Mix'!$A$4:$AJ$171,36,FALSE) -> LARGE
A9: 9360274 | B9: PLANNER,WK/MTH,AY19-20 | C9: =VLOOKUP($A9,[1]By_SKU!$A$5:$J$55,10,FALSE) -> ACCO BRANDS CORP | D9: 745842 | F9: =VLOOKUP(A9,'[2]Retail Mix'!$A$4:$AE$291,21,FALSE) -> APPT. BOOKS/PLANNERS | G9: =VLOOKUP($A9,'[2]Retail Mix'!$A$4:$AE$291,30,FALSE) -> DEEP GREEN | H9: =VLOOKUP($A9,'[2]Retail Mix'!$A$4:$AE$291,31,FALSE) -> CONSERVATIVE | I9: =VLOOKUP(A9,'[2]BSD Mix'!$A$4:$AJ$171,36,FALSE) -> LARGE
A10: 8836815 | B10: PLANNER,8.5X11,DOTS,AY20,WM | C10: =VLOOKUP($A10,[1]By_SKU!$A$5:$J$55,10,FALSE) -> BLUE SKY COLOR OF IMAGINATION | D10: 789449
A11: 8767176 | B11: PLANNER,DPGREEN,WM,MED,BLACK | C11: =VLOOKUP($A11,[1]By_SKU!$A$5:$J$55,10,FALSE) -> ACCO BRANDS CORP | D11: 649763 | F11: =VLOOKUP(A11,'[2]Retail Mix'!$A$4:$AE$291,21,FALSE) -> APPT. BOOKS/PLANNERS | G11: =VLOOKUP($A11,'[2]Retail Mix'!$A$4:$AE$291,30,FALSE) -> DEEP GREEN | H11: =VLOOKUP($A11,'[2]Retail Mix'!$A$4:$AE$291,31,FALSE) -> CONSERVATIVE | I11: =VLOOKUP(A11,'[2]BSD Mix'!$A$4:$AJ$171,36,FALSE) -> MEDIUM
A12: 8767438 | B12: PLANNER,AAGCORE,WKLY,PKT,BLACK | C12: =VLOOKUP($A12,[1]By_SKU!$A$5:$J$55,10,FALSE) -> ACCO BRANDS CORP | D12: 649763 | F12: =VLOOKUP(A12,'[2]Retail Mix'!$A$4:$AE$291,21,FALSE) -> APPT. BOOKS/PLANNERS | G12: =VLOOKUP($A12,'[2]Retail Mix'!$A$4:$AE$291,30,FALSE) -> DAYMINDER | H12: =VLOOKUP($A12,'[2]Retail Mix'!$A$4:$AE$291,31,FALSE) -> CONSERVATIVE | I12: =VLOOKUP(A12,'[2]BSD Mix'!$A$4:$AJ$171,36,FALSE) -> POCKET
A13: 8767600 | B13: PLANNER,TEACHER,WM,LG,NVY | C13: =VLOOKUP($A13,[1]By_SKU!$A$5:$J$55,10,FALSE) -> ACCO BRANDS CORP | D13: 485738 | F13: =VLOOKUP(A13,'[2]Retail Mix'!$A$4:$AE$291,21,FALSE) -> APPT. BOOKS/PLANNERS | G13: =VLOOKUP($A13,'[2]Retail Mix'!$A$4:$AE$291,30,FALSE) -> Teacher Planning | H13: =VLOOKUP($A13,'[2]Retail Mix'!$A$4:$AE$291,31,FALSE) -> CONSERVATIVE | I13: =VLOOKUP(A13,'[2]BSD Mix'!$A$4:$AJ$171,36,FALSE) -> LARGE
A14: 8767861 | B14: PLANNER,NOTETKR,MNTH,MED,BLK | C14: =VLOOKUP($A14,[1]By_SKU!$A$5:$J$55,10,FALSE) -> ACCO BRANDS CORP | D14: 649763 | F14: =VLOOKUP(A14,'[2]Retail Mix'!$A$4:$AE$291,21,FALSE) -> APPT. BOOKS/PLANNERS | G14: =VLOOKUP($A14,'[2]Retail Mix'!$A$4:$AE$291,30,FALSE) -> Notetaker | H14: =VLOOKUP($A14,'[2]Retail Mix'!$A$4:$AE$291,31,FALSE) -> CONSERVATIVE | I14: =VLOOKUP(A14,'[2]BSD Mix'!$A$4:$AJ$171,36,FALSE) -> MEDIUM
A15: 8767943 | B15: PLANNER,NOTETKR,WM,LG,BLACK | C15: =VLOOKUP($A15,[1]By_SKU!$A$5:$J$55,10,FALSE) -> ACCO BRANDS CORP | D15: 745842 | F15: =VLOOKUP(A15,'[2]Retail Mix'!$A$4:$AE$291,21,FALSE) -> APPT. BOOKS/PLANNERS | G15: =VLOOKUP($A15,'[2]Retail Mix'!$A$4:$AE$291,30,FALSE) -> Notetaker | H15: =VLOOKUP($A15,'[2]Retail Mix'!$A$4:$AE$291,31,FALSE) -> CONSERVATIVE | I15: =VLOOKUP(A15,'[2]BSD Mix'!$A$4:$AJ$171,36,FALSE) -> LARGE
A16: 9562093 | B16: WALL,CAL,SWEETGEO,11X8,AY20,M | C16: =VLOOKUP($A16,[1]By_SKU!$A$5:$J$55,10,FALSE) -> BLUE SKY COLOR OF IMAGINATION | D16: 513471
A17: 8602971 | B17: PLANNER,LVLYMN,8X10,AY20,WM | C17: =VLOOKUP($A17,[1]By_SKU!$A$5:$J$55,10,FALSE) -> BLUE SKY COLOR OF IMAGINATION | D17: 166739
A18: 8603152 | B18: PLANNER,LVLYMN,6X8,AY20,WM | C18: =VLOOKUP($A18,[1]By_SKU!$A$5:$J$55,10,FALSE) -> BLUE SKY COLOR OF IMAGINATION | D18: 977102
A19: 8603243 | B19: PLANNER,NWPKSP,8X10,AY20,DM | C19: =VLOOKUP($A19,[1]By_SKU!$A$5:$J$55,10,FALSE) -> BLUE SKY COLOR OF IMAGINATION | D19: 166739
A20: 9562351 | B20: PLANNER,ANTIGUA,8.5X11,AY20,WM | C20: =VLOOKUP($A20,[1]By_SKU!$A$5:$J$55,10,FALSE) -> BLUE SKY COLOR OF IMAGINATION | D20: 892763
A21: 8603890 | B21: PADFOLIO,8.5X11,NAVY,NONDATED | C21: =VLOOKUP($A21,[1]By_SKU!$A$5:$J$55,10,FALSE) -> BLUE SKY COLOR OF IMAGINATION | D21: 831797 | F21: =VLOOKUP(A21,'[2]Retail Mix'!$A$4:$AE$291,21,FALSE) -> ACCESSORIES | G21: =VLOOKUP($A21,'[2]Retail Mix'!$A$4:$AE$291,30,FALSE) -> DD NAVY | H21: =VLOOKUP($A21,'[2]Retail Mix'!$A$4:$AE$291,31,FALSE) -> DESIGN
A22: 9562484 | B22: PLANNER,SWEET,8.5X11,AY20,WM | C22: =VLOOKUP($A22,[1]By_SKU!$A$5:$J$55,10,FALSE) -> BLUE SKY COLOR OF IMAGINATION | D22: 185741
A23: 9562661 | B23: PLANNER,SMMR,8.5X11,AY20,WM | C23: =VLOOKUP($A23,[1]By_SKU!$A$5:$J$55,10,FALSE) -> BLUE SKY COLOR OF IMAGINATION | D23: 789449
A24: 9562724 | B24: DESKPAD,NEWPNKSTR,22X17,AY20,M | C24: =VLOOKUP($A24,[1]By_SKU!$A$5:$J$55,10,FALSE) -> BLUE SKY COLOR OF IMAGINATION | D24: 167057
A25: 8604356 | B25: DESKPAD,ANTIGUA,17X11,AY20,M | C25: =VLOOKUP($A25,[1]By_SKU!$A$5:$J$55,10,FALSE) -> BLUE SKY COLOR OF IMAGINATION | D25: 737321
A26: 6994619 | B26: CALENDER,EMILY,LEY,15X12,WALL, | C26: =VLOOKUP($A26,[1]By_SKU!$A$5:$J$55,10,FALSE) -> ACCO BRANDS CORP | D26: 302873 | F26: =VLOOKUP(A26,'[2]Retail Mix'!$A$4:$AE$291,21,FALSE) -> WALL CALENDARS | G26: =VLOOKUP($A26,'[2]Retail Mix'!$A$4:$AE$291,30,FALSE) -> EMILY LEY | H26: =VLOOKUP($A26,'[2]Retail Mix'!$A$4:$AE$291,31,FALSE) -> DESIGN | I26: =VLOOKUP(A26,'[2]BSD Mix'!$A$4:$AJ$171,36,FALSE) -> MEDIUM
A27: 8768281 | B27: WALL,AY,SMALL,EMILYLEY | C27: =VLOOKUP($A27,[1]By_SKU!$A$5:$J$55,10,FALSE) -> ACCO BRANDS CORP | D27: 302873 | F27: =VLOOKUP(A27,'[2]Retail Mix'!$A$4:$AE$291,21,FALSE) -> WALL CALENDARS | G27: =VLOOKUP($A27,'[2]Retail Mix'!$A$4:$AE$291,30,FALSE) -> EMILY LEY | H27: =VLOOKUP($A27,'[2]Retail Mix'!$A$4:$AE$291,31,FALSE) -> DESIGN | I27: =VLOOKUP(A27,'[2]BSD Mix'!$A$4:$AJ$171,36,FALSE) -> SMALL
A28: 8768369 | B28: PLANNER,EMILYLEY,WM,MED,PNK | C28: =VLOOKUP($A28,[1]By_SKU!$A$5:$J$55,10,FALSE) -> ACCO BRANDS CORP | D28: 722351 | F28: =VLOOKUP(A28,'[2]Retail Mix'!$A$4:$AE$291,21,FALSE) -> APPT. BOOKS/PLANNERS | G28: =VLOOKUP($A28,'[2]Retail Mix'!$A$4:$AE$291,30,FALSE) -> EMILY LEY | H28: =VLOOKUP($A28,'[2]Retail Mix'!$A$4:$AE$291,31,FALSE) -> DESIGN | I28: =VLOOKUP(A28,'[2]BSD Mix'!$A$4:$AJ$171,36,FALSE) -> MEDIUM
A29: 6995452 | B29: EMILY,LEY,SMALL,WM,PINEAPPLE | C29: =VLOOKUP($A29,[1]By_SKU!$A$5:$J$55,10,FALSE) -> ACCO BRANDS CORP | D29: 169613 | F29: =VLOOKUP(A29,'[2]Retail Mix'!$A$4:$AE$291,21,FALSE) -> APPT. BOOKS/PLANNERS | G29: =VLOOKUP($A29,'[2]Retail Mix'!$A$4:$AE$291,30,FALSE) -> EMILY LEY | H29: =VLOOKUP($A29,'[2]Retail Mix'!$A$4:$AE$291,31,FALSE) -> DESIGN | I29: =VLOOKUP(A29,'[2]BSD Mix'!$A$4:$AJ$171,36,FALSE) -> SMALL
A30: 8768779 | B30: PLANNER,EMILYLEY,M,LRG,NVY | C30: =VLOOKUP($A30,[1]By_SKU!$A$5:$J$55,10,FALSE) -> ACCO BRANDS CORP | D30: 725822 | F30: =VLOOKUP(A30,'[2]Retail Mix'!$A$4:$AE$291,21,FALSE) -> APPT. BOOKS/PLANNERS | G30: =VLOOKUP($A30,'[2]Retail Mix'!$A$4:$AE$291,30,FALSE) -> EMILY LEY | H30: =VLOOKUP($A30,'[2]Retail Mix'!$A$4:$AE$291,31,FALSE) -> DESIGN | I30: =VLOOKUP(A30,'[2]BSD Mix'!$A$4:$AJ$171,36,FALSE) -> LARGE
A31: 8768804 | B31: DESKPAD,AY,COMPACT,EMILYLEY | C31: =VLOOKUP($A31,[1]By_SKU!$A$5:$J$55,10,FALSE) -> ACCO BRANDS CORP | D31: 454217 | F31: =VLOOKUP(A31,'[2]Retail Mix'!$A$4:$AE$291,21,FALSE) -> DESK PADS | G31: =VLOOKUP($A31,'[2]Retail Mix'!$A$4:$AE$291,30,FALSE) -> EMILY LEY | H31: =VLOOKUP($A31,'[2]Retail Mix'!$A$4:$AE$291,31,FALSE) -> DESIGN | I31: =VLOOKUP(A31,'[2]BSD Mix'!$A$4:$AJ$171,36,FALSE) -> COMPACT
A32: 6997163 | B32: EMILY,LEY,LG,WM,POLY,PLNR,HPY | C32: =VLOOKUP($A32,[1]By_SKU!$A$5:$J$55,10,FALSE) -> ACCO BRANDS CORP | D32: 722351 | F32: =VLOOKUP(A32,'[2]Retail Mix'!$A$4:$AE$291,21,FALSE) -> APPT. BOOKS/PLANNERS | G32: =VLOOKUP($A32,'[2]Retail Mix'!$A$4:$AE$291,30,FALSE) -> EMILY LEY | H32: =VLOOKUP($A32,'[2]Retail Mix'!$A$4:$AE$291,31,FALSE) -> DESIGN | I32: =VLOOKUP(A32,'[2]BSD Mix'!$A$4:$AJ$171,36,FALSE) -> LARGE
A33: 6995493 | B33: EMILY,LEY,SMALL,WM,HARDCOVER | C33: =VLOOKUP($A33,[1]By_SKU!$A$5:$J$55,10,FALSE) -> ACCO BRANDS CORP | D33: 169613 | F33: =VLOOKUP(A33,'[2]Retail Mix'!$A$4:$AE$291,21,FALSE) -> APPT. BOOKS/PLANNERS | G33: =VLOOKUP($A33,'[2]Retail Mix'!$A$4:$AE$291,30,FALSE) -> EMILY LEY | H33: =VLOOKUP($A33,'[2]Retail Mix'!$A$4:$AE$291,31,FALSE) -> DESIGN | I33: =VLOOKUP(A33,'[2]BSD Mix'!$A$4:$AJ$171,36,FALSE) -> SMALL
A34: 8771732 | B34: PLANNER,SJW,WM,LRG,HRT | C34: =VLOOKUP($A34,[1]By_SKU!$A$5:$J$55,10,FALSE) -> ACCO BRANDS CORP | D34: 693386 | F34: =VLOOKUP(A34,'[2]Retail Mix'!$A$4:$AE$291,21,FALSE) -> APPT. BOOKS/PLANNERS | G34: =VLOOKUP($A34,'[2]Retail Mix'!$A$4:$AE$291,30,FALSE) -> SEE JANE WORK | H34: =VLOOKUP($A34,'[2]Retail Mix'!$A$4:$AE$291,31,FALSE) -> DESIGN | I34: =VLOOKUP(A34,'[2]BSD Mix'!$A$4:$AJ$171,36,FALSE) -> LARGE
A35: 8771759 | B35: PLANNER,SJW,WM,SM,HRT | C35: =VLOOKUP($A35,[1]By_SKU!$A$5:$J$55,10,FALSE) -> ACCO BRANDS CORP | D35: 356345 | F35: =VLOOKUP(A35,'[2]Retail Mix'!$A$4:$AE$291,21,FALSE) -> APPT. BOOKS/PLANNERS | G35: =VLOOKUP($A35,'[2]Retail Mix'!$A$4:$AE$291,30,FALSE) -> SEE JANE WORK | H35: =VLOOKUP($A35,'[2]Retail Mix'!$A$4:$AE$291,31,FALSE) -> DESIGN | I35: =VLOOKUP(A35,'[2]BSD Mix'!$A$4:$AJ$171,36,FALSE) -> SMALL
A36: 8771820 | B36: PLANNER,SJW,WM,SM,ROSE | C36: =VLOOKUP($A36,[1]By_SKU!$A$5:$J$55,10,FALSE) -> ACCO BRANDS CORP | D36: 340815 | F36: =VLOOKUP(A36,'[2]Retail Mix'!$A$4:$AE$291,21,FALSE) -> APPT. BOOKS/PLANNERS | G36: =VLOOKUP($A36,'[2]Retail Mix'!$A$4:$AE$291,30,FALSE) -> SEE JANE WORK | H36: =VLOOKUP($A36,'[2]Retail Mix'!$A$4:$AE$291,31,FALSE) -> DESIGN | I36: =VLOOKUP(A36,'[2]BSD Mix'!$A$4:$AJ$171,36,FALSE) -> LARGE
A37: 8771937 | B37: PLANNER,SJW,WM,SM,ROSE | C37: =VLOOKUP($A37,[1]By_SKU!$A$5:$J$55,10,FALSE) -> ACCO BRANDS CORP | D37: 647972 | F37: =VLOOKUP(A37,'[2]Retail Mix'!$A$4:$AE$291,21,FALSE) -> APPT. BOOKS/PLANNERS | G37: =VLOOKUP($A37,'[2]Retail Mix'!$A$4:$AE$291,30,FALSE) -> SEE JANE WORK | H37: =VLOOKUP($A37,'[2]Retail Mix'!$A$4:$AE$291,31,FALSE) -> DESIGN | I37: =VLOOKUP(A37,'[2]BSD Mix'!$A$4:$AJ$171,36,FALSE) -> SMALL
A38: 8771981 | B38: STICKERS,SJW,SM,MULTI | C38: =VLOOKUP($A38,[1]By_SKU!$A$5:$J$55,10,FALSE) -> ACCO BRANDS CORP | D38: 302873 | F38: =VLOOKUP(A38,'[2]Retail Mix'!$A$4:$AE$291,21,FALSE) -> ACCESSORIES | G38: =VLOOKUP($A38,'[2]Retail Mix'!$A$4:$AE$291,30,FALSE) -> SEE JANE WORK | H38: =VLOOKUP($A38,'[2]Retail Mix'!$A$4:$AE$291,31,FALSE) -> DESIGN
A39: 8772016 | B39: DESKPAD,AY,MINI,SEEJANEWORK | C39: =VLOOKUP($A39,[1]By_SKU!$A$5:$J$55,10,FALSE) -> ACCO BRANDS CORP | D39: 454217 | F39: =VLOOKUP(A39,'[2]Retail Mix'!$A$4:$AE$291,21,FALSE) -> DESK PADS | G39: =VLOOKUP($A39,'[2]Retail Mix'!$A$4:$AE$291,30,FALSE) -> SEE JANE WORK | H39: =VLOOKUP($A39,'[2]Retail Mix'!$A$4:$AE$291,31,FALSE) -> DESIGN | I39: =VLOOKUP(A39,'[2]BSD Mix'!$A$4:$AJ$171,36,FALSE) -> MINI
A40: 8772096 | B40: WALL,AY,MED,SEEJANEWORK | C40: =VLOOKUP($A40,[1]By_SKU!$A$5:$J$55,10,FALSE) -> ACCO BRANDS CORP | D40: 302873 | F40: =VLOOKUP(A40,'[2]Retail Mix'!$A$4:$AE$291,21,FALSE) -> WALL CALENDARS | G40: =VLOOKUP($A40,'[2]Retail Mix'!$A$4:$AE$291,30,FALSE) -> SEE JANE WORK | H40: =VLOOKUP($A40,'[2]Retail Mix'!$A$4:$AE$291,31,FALSE) -> DESIGN | I40: =VLOOKUP(A40,'[2]BSD Mix'!$A$4:$AJ$171,36,FALSE) -> MEDIUM
...

Sheet Q3-18 ODS Master-Final
A1: CURRENT SKU INFORMATION | L1: GO FORWARD SKU (Alt) INFORMATION | U1: ALT ATTRIBUTES | AF1: CURRENT SKU ATTRIBUTES | AP1: Master Subsell | AT1: MERCH OPS
A2: Dept | B2: Dept Name | C2: DMD | D2: Current SKU | E2: Current Item Description | F2: Current UOM | G2: Current QPU | H2: Current Class | I2: Current Class Name | J2: Current Primary Vendor | K2: Current Primary Vendor Name | L2: Go Forward SKU (Alt) | M2: RMS ALT | N2: Alt Dept | O2: Dept Match | P2: Alt Item Description | Q2: Alt UOM | R2: Alt QPU | S2: Alt Primary Vendor | T2: Alt Primary Vendor Name | U2: Alt Procurement Flag | V2: Alt WS Flag | W2: Alt VW Flag | X2: Alt Private Brand Flag | Y2: ODS Alt 3rd Pty Support? | Z2: Alt Disco at Item Level | AA2: Alt Proprietary | AB2: BSD29 Page | AC2: BB19 Page | AD2: Merchant Intent | AE2: Alt Stocking Bucket | AF2: R52 Orig Item Contract Sales | AG2: Sales >500.00? | AH2: Contracts (Orig item) | AI2: NASPO | AJ2: Vendor Disco (Org Item) | AK2: Current Private Brand Flag | AL2: Current Business Select | AM2: BSD 2019 Page | AN2: BB19 Page | AO2: Current Proprietary | AP2: Is Org Master | AQ2: Subsell | AR2: Is Subsell in Event | AS2: Source File | AT2: ISSUES | AU2: Ops Comments | AV2: ACTION NEEDED
A3: 43 | B3: BREAKROOM | C3: Michael Davis | D3: 623006 | E3: CHIPS,FRITO,VARIETY,30PK | F3: PK | G3: 30 | H3: 813 | I3: FOOD | J3: 7227 | K3: VISTAR CORP | L3: Need Alt - Sales > $500 | O3: N/A | AF3: 735555.61 | AG3: Y | AH3: 373 | AI3: N | AJ3: N | AK3: N | AM3: 395 | AO3: N | AP3: N | AQ3: N/A | AR3: N/A | AS3: SharePoint Removes | AT3: X | AU3: Orginal SKU is part of the BSD29 Catalog | AV3: Determing if original SKU should stay in the event - if so, REQUIRES ALT
A4: 66 | B4: BUSINESS MACHINES | C4: Tina Pruitt Bashiri | D4: 790821 | E4: CALCULATOR,PRINTING,HR-100TM | F4: EA | G4: 1 | H4: 223 | I4: CALCULATORS | J4: 1063905 | K4: CASIO AMERICA INC | L4: 207581 | M4: N | N4: 66 | O4: okay | P4: CALCULATOR,PRINT,HR100CL,2CLR | Q4: EA | R4: 1 | S4: 586 | T4: CASIO AMERICA INC | U4: X | V4: N | W4: N | X4: N | Y4: N | Z4: Y | AA4: N | AD4: Not in BSD Master | AE4: Not in Stocking Strategy | AF4: 352817.2 | AG4: Y | AH4: 440 | AI4: N | AJ4: N | AK4: N | AO4: N | AP4: N | AQ4: N/A | AR4: N/A | AS4: SharePoint Removes | AT4: X | AU4: ALT SKU is Discontinued at Item Level | AV4: Provide New Alt SKU OR Reactivate Alt SKU
A5: 43 | B5: BREAKROOM | C5: Michael Davis | D5: 509237 | E5: WELCH,MIXED,FRUITS SNACKS,66CT | F5: EA | G5: 1 | H5: 813 | I5: FOOD | J5: 1060404 | K5: G AND J HOLDINGS LLC | L5: Need Alt - Sales > $500 | O5: N/A | AF5: 256508.24 | AG5: Y | AH5: 42 | AI5: N | AJ5: N | AK5: N | AO5: N | AP5: N | AQ5: N/A | AR5: N/A | AS5: SharePoint Removes | AT5: X | AU5: Need Alt - Sales > $500.00 | AV5: Provide Alt SKU
A6: 1 | B6: FURNITURE | C6: Open | D6: 532059 | E6: CLOCK,13-3/4",QUARTZ,CONTRACT | F6: EA | G6: 1 | H6: 697 | I6: OFFICE DECOR | J6: 455056 | K6: CHICAGO LIGHTHOUSE IND | L6: 706685 | M6: N | N6: 1 | O6: okay | P6: WALL CLOCK,14",EASY TO READ | Q6: EA | R6: 1 | S6: 1002430 | T6: MZ BERGER & COMPANY INC | U6: N | V6: N | W6: N | X6: Y | Y6: N | Z6: N | AA6: N | AB6: 334 | AC6: 232 | AD6: Do not remove | AE6: Essential 60K | AF6: 252213.61 | AG6: Y | AH6: 251 | AI6: N | AJ6: N | AK6: N | AO6: N | AP6: N | AQ6: N/A | AR6: N/A | AS6: SharePoint Removes | AT6: good | AU6: n/a | AV6: n/a
A7: 43 | B7: BREAKROOM | C7: Michael Davis | D7: 840892 | E7: BREWER,BRSTA ESPRSO,FLVA | F7: EA | G7: 1 | H7: 809 | I7: COFFEE & CONDIMENTS | J7: 450983 | K7: VISTAR CORP | L7: 991466 | M7: N | N7: 43 | O7: okay | P7: BREWER,FLAVIA CREATION 500 | Q7: EA | R7: 1 | S7: 450983 | T7: VISTAR CORP | U7: D | V7: Y | W7: N | X7: N | Y7: Y | Z7: N | AA7: N | AB7: 378 | AD7: Remove | AE7: Disco / Merch Remove | AF7: 251766.58 | AG7: Y | AH7: 111 | AI7: Y | AJ7: N | AK7: N | AM7: 378 | AO7: N | AP7: N | AQ7: N/A | AR7: N/A | AS7: SharePoint Removes | AT7: X | AU7: Alt SKU is Remove in BSD master | AV7: Determing if original SKU should stay in the event - if so, Provide New Alt SKU OR Add submit existing Alt SKU as an add via Sharepoint
A8: 43 | B8: BREAKROOM | C8: Michael Davis | D8: 678459 | E8: SKINNY,POP,100 CALORIE,20CT | F8: EA | G8: 1 | H8: 813 | I8: FOOD | J8: 1060404 | K8: G AND J HOLDINGS LLC | L8: Need Alt - Sales > $500 | O8: N/A | AF8: 219916.07 | AG8: Y | AH8: 50 | AI8: N | AJ8: N | AK8: N | AO8: N | AP8: N | AQ8: N/A | AR8: N/A | AS8: SharePoint Removes | AT8: X | AU8: Need Alt - Sales > $500.00 | AV8: Provide Alt SKU
A9: 47 | B9: CLEAN/PERSONAL CARE | C9: Michael Davis | D9: 9688900 | E9: HWN TROP SHAMPOO 144 | F9: CT | G9: 144 | H9: 806 | I9: CLEANING SUPPLIES | J9: 1002312 | K9: HOTEL EMPORIUM INC | L9: Need Alt - Sales > $500 | O9: N/A | AF9: 160103.16 | AG9: Y | AH9: 15 | AI9: N | AJ9: N | AK9: N | AO9: N | AP9: Y | AQ9: 4979639 | AR9: N | AS9: Previous Event Alt Now Remove | AT9: X | AU9: Need Alt - Sales > $500.00 | AV9: Provide Alt SKU
A10: 85 | B10: STORAGE | C10: Tina Pruitt Bashiri | D10: 420346 | E10: BOX,OMNI,6.5QT,4PK | F10: PK | G10: 1 | H10: 470 | I10: PLASTIC STORAGE | J10: 876255 | K10: UNITED COMB & NOVELTY | L10: 4037187 | M10: N | N10: 85 | O10: okay | P10: BOX,CLEAR,5.9 QT,4PK | Q10: PK | R10: 4 | S10: 3695 | T10: IRIS USA INC | U10: N | V10: N | W10: N | X10: Y | Y10: N | Z10: N | AA10: N | AB10: 136 | AC10: 114 | AD10: Do not remove | AE10: Essential 60K | AF10: 156084.55 | AG10: Y | AH10: 331 | AI10: N | AJ10: N | AK10: Y | AO10: N | AP10: N | AQ10: N/A | AR10: N/A | AS10: SharePoint Removes | AT10: good | AU10: n/a | AV10: n/a
A11: 3 | B11: BINDERS | C11: Robert Giles | D11: 208405 | E11: BINDER,ODP,VW,RR,1",GREEN | F11: EA | G11: 1 | H11: 307 | I11: BINDERS | J11: 274 | K11: LSC COMMUNICATIONS US LLC | L11: Need Alt - Sales > $500 | O11: N/A | AF11: 154881.74 | AG11: Y | AH11: 185 | AI11: N | AJ11: N | AK11: Y | AO11: N | AP11: N | AQ11: N/A | AR11: N/A | AS11: BSD Master Remove | AT11: X | AU11: Need Alt - Sales > $500.00 | AV11: Provide Alt SKU
A12: 43 | B12: BREAKROOM | C12: Michael Davis | D12: 443059 | E12: REFRIGERATOR,SUPER,1.7CF | F12: EA | G12: 1 | H12: 810 | I12: APPLIANCES | J12: 1063911 | K12: AVANTI PRODUCTS LLC | L12: Need Alt - Sales > $500 | O12: N/A | AF12: 153536.87 | AG12: Y | AH12: 148 | AI12: N | AJ12: N | AK12: N | AO12: N | AP12: N | AQ12: N/A | AR12: N/A | AS12: Naspo Catalog Removes | AT12: X | AU12: Need Alt - Sales > $500.00 | AV12: Provide Alt SKU
A13: 85 | B13: STORAGE | C13: Tina Pruitt Bashiri | D13: 108337 | E13: CART,COLLAPSIBLE,W/LID,RED | F13: EA | G13: 1 | H13: 470 | I13: PLASTIC STORAGE | J13: 762526 | K13: ADVANTUS CORP | L13: 108393 | M13: N | N13: 85 | O13: okay | P13: CART,COLLAPSIBLE,W/LID,BLUE | Q13: EA | R13: 1 | S13: 762526 | T13: ADVANTUS CORP | U13: D | V13: N | W13: N | X13: Y | Y13: N | Z13: N | AA13: N | AB13: 137 | AC13: 116 | AD13: Do not remove | AE13: Essential 60K | AF13: 137286.33 | AG13: Y | AH13: 182 | AI13: N | AJ13: N | AK13: Y | AO13: N | AP13: N | AQ13: N/A | AR13: N/A | AS13: SharePoint Removes | AT13: good | AU13: n/a | AV13: n/a
A14: 58 | B14: PRESENTATION | C14: Open | D14: 693680 | E14: DOCUMENT PROTECTOR | F14: BX | G14: 50 | H14: 705 | I14: PRESENTATION BOARDS | J14: 8719 | K14: SP RICHARDS | L14: 662476 | M14: N | N14: 3 | O14: okay | P14: PROTECTOR,SHT,11X17,60PK,ASTD | Q14: PK | R14: 60 | S14: 453268 | T14: STRIDE INC | U14: D | V14: Y | W14: N | X14: N | Y14: Y | Z14: N | AA14: N | AD14: Do not remove | AE14: Essential 40K | AF14: 131387.88 | AG14: Y | AH14: 28 | AI14: Y | AJ14: N | AK14: N | AO14: N | AP14: N | AQ14: N/A | AR14: N/A | AS14: SharePoint Removes | AT14: good | AU14: n/a | AV14: n/a
A15: 43 | B15: BREAKROOM | C15: Michael Davis | D15: 158459 | E15: COOKIE,CRACKER,VARIETY,36CT | F15: EA | G15: 1 | H15: 813 | I15: FOOD | J15: 1060404 | K15: G AND J HOLDINGS LLC | L15: Need Alt - Sales > $500 | O15: N/A | AF15: 131115.57 | AG15: Y | AH15: 23 | AI15: N | AJ15: N | AK15: N | AO15: N | AP15: N | AQ15: N/A | AR15: N/A | AS15: SharePoint Removes | AT15: X | AU15: Need Alt - Sales > $500.00 | AV15: Provide Alt SKU
A16: 42 | B16: LABELS | C16: Tina Pruitt Bashiri | D16: 764366 | E16: LBL C/C YR-18 ETYJ ROLL | F16: RL | G16: 500 | H16: 788 | I16: FILING/ID LABELS | J16: 100 | K16: SP RICHARDS | L16: Need Alt - Sales > $500 | O16: N/A | AF16: 130132.2 | AG16: Y | AH16: 58 | AI16: N | AJ16: N | AK16: N | AO16: N | AP16: N | AQ16: N/A | AR16: N/A | AS16: Naspo Catalog Removes | AT16: X | AU16: Need Alt - Sales > $500.00 | AV16: Provide Alt SKU
A17: 85 | B17: STORAGE | C17: Tina Pruitt Bashiri | D17: 420337 | E17: BOX,OMNI,13.5QT,2OK | F17: PK | G17: 2 | H17: 470 | I17: PLASTIC STORAGE | J17: 3695 | K17: IRIS USA INC | L17: Need Alt - Sales > $500 | O17: N/A | AF17: 129595.42 | AG17: Y | AH17: 163 | AI17: N | AJ17: N | AK17: Y | AO17: N | AP17: N | AQ17: N/A | AR17: N/A | AS17: SharePoint Removes | AT17: X | AU17: Need Alt - Sales > $500.00 | AV17: Provide Alt SKU
A18: 47 | B18: CLEAN/PERSONAL CARE | C18: Michael Davis | D18: 672959 | E18: HANDSOAP,LTX12,PRVN,FOAM,PLM | F18: EA | G18: 1 | H18: 865 | I18: PERSONAL HYGIENE | J18: 1044878 | K18: GOJO INDUSTRIES INC | L18: 479262 | M18: N | N18: 47 | O18: okay | P18: SOAP,PCMX,PROVON,1200,LTX | Q18: CT | R18: 2 | S18: 1044878 | T18: GOJO INDUSTRIES INC | U18: D | V18: N | W18: Y | X18: N | Y18: Y | Z18: N | AA18: N | AD18: Not in BSD Master | AE18: Not in Stocking Strategy | AF18: 126457.28 | AG18: Y | AH18: 54 | AI18: N | AJ18: N | AK18: N | AO18: N | AP18: N | AQ18: N/A | AR18: N/A | AS18: SharePoint Removes | AT18: X | AU18: Alt is Not in Stocking Strategy | AV18: Submit Alt to Sharepoint as an Add
A19: 11 | B19: WRITING | C19: Robert Ballou | D19: 591215 | E19: SHARPENER,PENCIL,MNL,2 HL,ASTD | F19: EA | G19: 1 | H19: 620 | I19: PENCILS | J19: 463772 | K19: MAPED HELIX USA INC | L19: 891993 | M19: N | N19: 11 | O19: okay | P19: SHARPENER,MANUAL, DB HOLE | Q19: EA | R19: 1 | S19: 409657 | T19: BEIFA GROUP CO LTD | U19: N | V19: N | W19: N | X19: Y | Y19: N | Z19: N | AA19: N | AC19: 187 | AD19: Do Not Remove | AE19: Essential 40K | AF19: 123728.36 | AG19: Y | AH19: 158 | AI19: N | AJ19: N | AK19: Y | AO19: N | AP19: N | AQ19: N/A | AR19: N/A | AS19: SharePoint Removes | AT19: good | AU19: n/a | AV19: n/a
A20: 47 | B20: CLEAN/PERSONAL CARE | C20: Michael Davis | D20: 8401302 | E20: HWN TROP BODYWASH 144 | F20: CT | G20: 1 | H20: 806 | I20: CLEANING SUPPLIES | J20: 1002312 | K20: HOTEL EMPORIUM INC | L20: Need Alt - Sales > $500 | O20: N/A | AF20: 123510.33 | AG20: Y | AH20: 14 | AI20: N | AJ20: N | AK20: N | AO20: N | AP20: N | AQ20: N/A | AR20: N/A | AS20: Previous Event Alt Now Remove | AT20: X | AU20: Need Alt - Sales > $500.00 | AV20: Provide Alt SKU
A21: 43 | B21: BREAKROOM | C21: Michael Davis | D21: 798114 | E21: CUP,PLASTIC,RED,16 OZ | F21: PK | G21: 50 | H21: 580 | I21: BREAKROOM ESSENTIALS | J21: 1180892 | K21: SP RICHARDS | L21: Need Alt - Sales > $500 | O21: N/A | AF21: 118531.69 | AG21: Y | AH21: 151 | AI21: N | AJ21: Y | AK21: N | AL21: N | AO21: N | AP21: N | AQ21: N/A | AR21: N | AS21: Wholesale Discos-SP Primary | AT21: X | AU21: Need Alt - Sales > $500.00 | AV21: Provide Alt SKU
A22: 47 | B22: CLEAN/PERSONAL CARE | C22: Michael Davis | D22: 158448 | E22: BATTERY,EVEREADY,GOLD,AA,24PK | F22: PK | G22: 24 | H22: 864 | I22: BATTERIES | J22: 520 | K22: ENERGIZER BATTERY INC | L22: 626049 | M22: N | N22: 47 | O22: okay | P22: BATTERY,ALKALINE,MAX,AA,24/PK | Q22: PK | R22: 12 | S22: 520 | T22: ENERGIZER BATTERY INC | U22: D | V22: N | W22: N | X22: N | Y22: N | Z22: N | AA22: N | AB22: 675 | AD22: Do not remove | AE22: Essential 60K | AF22: 116601.12 | AG22: Y | AH22: 400 | AI22: N | AJ22: N | AK22: N | AO22: N | AP22: N | AQ22: N/A | AR22: N/A | AS22: SharePoint Removes | AT22: good | AU22: n/a | AV22: n/a
A23: 47 | B23: CLEAN/PERSONAL CARE | C23: Michael Davis | D23: 9258446 | E23: HWN TROP LOTION 144 | F23: CT | G23: 1 | H23: 806 | I23: CLEANING SUPPLIES | J23: 1002312 | K23: HOTEL EMPORIUM INC | L23: Need Alt - Sales > $500 | O23: N/A | AF23: 115656.52 | AG23: Y | AH23: 14 | AI23: N | AJ23: N | AK23: N | AO23: N | AP23: N | AQ23: N/A | AR23: N/A | AS23: Previous Event Alt Now Remove | AT23: X | AU23: Need Alt - Sales > $500.00 | AV23: Provide Alt SKU
A24: 66 | B24: BUSINESS MACHINES | C24: Tina Pruitt Bashiri | D24: 410491 | E24: CALCULATOR,PRINTING,DR210TM-BK | F24: EA | G24: 1 | H24: 223 | I24: CALCULATORS | J24: 1063905 | K24: CASIO AMERICA INC | L24: 561016 | M24: N | N24: 66 | O24: okay | P24: CALCULATOR,PRINTING,EL-1801V | Q24: EA | R24: 1 | S24: 1004217 | T24: VICTOR TECHNOLOGY | U24: D | V24: Y | W24: N | X24: N | Y24: Y | Z24: N | AA24: N | AB24: 623 | AD24: Do not remove | AE24: Essential 60K | AF24: 114105.43 | AG24: Y | AH24: 252 | AI24: Y | AJ24: N | AK24: N | AO24: N | AP24: N | AQ24: N/A | AR24: N/A | AS24: SharePoint Removes | AT24: good | AU24: n/a | AV24: n/a
A25: 66 | B25: BUSINESS MACHINES | C25: Tina Pruitt Bashiri | D25: 410181 | E25: CALCULATOR,PRINTING,FR2650TM | F25: EA | G25: 1 | H25: 223 | I25: CALCULATORS | J25: 1063905 | K25: CASIO AMERICA INC | L25: 1266102 | M25: N | N25: 66 | O25: okay | P25: Calculator Prtg Hd 12Dig 2Colr | Q25: EA | R25: 1 | S25: 1000295 | T25: AURORA CORP OF AMERICA | U25: X | V25: N | W25: N | X25: N | Y25: N | Z25: Y | AA25: N | AD25: Not in BSD Master | AE25: Not in Stocking Strategy | AF25: 111959.6 | AG25: Y | AH25: 201 | AI25: N | AJ25: N | AK25: N | AO25: N | AP25: N | AQ25: N/A | AR25: N/A | AS25: SharePoint Removes | AT25: X | AU25: ALT SKU is Discontinued at Item Level | AV25: Provide New Alt SKU OR Reactivate Alt SKU
A26: 1 | B26: FURNITURE | C26: Open | D26: 239269 | E26: CLOCK,COMMERCIAL,13.5"DIAL,BLK | F26: EA | G26: 1 | H26: 697 | I26: OFFICE DECOR | J26: 5472 | K26: VICTORY LIGHT USA | L26: 706685 | M26: N | N26: 1 | O26: okay | P26: WALL CLOCK,14",EASY TO READ | Q26: EA | R26: 1 | S26: 1002430 | T26: MZ BERGER & COMPANY INC | U26: N | V26: N | W26: N | X26: Y | Y26: N | Z26: N | AA26: N | AB26: 334 | AC26: 232 | AD26: Do not remove | AE26: Essential 60K | AF26: 107428.11 | AG26: Y | AH26: 257 | AI26: N | AJ26: N | AK26: N | AO26: N | AP26: N | AQ26: N/A | AR26: N/A | AS26: SharePoint Removes | AT26: good | AU26: n/a | AV26: n/a
A27: 85 | B27: STORAGE | C27: Tina Pruitt Bashiri | D27: 494411 | E27: BOX,STORAGE,62QT,CLEAR | F27: EA | G27: 1 | H27: 470 | I27: PLASTIC STORAGE | J27: 876255 | K27: UNITED COMB & NOVELTY | L27: 492928 | M27: N | N27: 85 | O27: okay | P27: TOTE,FLIP TOP,15 GAL,CLEAR | Q27: EA | R27: 1 | S27: 3695 | T27: IRIS USA INC | U27: D | V27: N | W27: N | X27: Y | Y27: N | Z27: N | AA27: N | AD27: Do not remove | AE27: Common | AF27: 107054.4 | AG27: Y | AH27: 190 | AI27: N | AJ27: N | AK27: Y | AO27: N | AP27: N | AQ27: N/A | AR27: N/A | AS27: SharePoint Removes | AT27: good | AU27: n/a | AV27: n/a
A28: 43 | B28: BREAKROOM | C28: Michael Davis | D28: 558849 | E28: HEATER, TOWER, CERAMIC | F28: EA | G28: 1 | H28: 810 | I28: APPLIANCES | J28: 994280 | K28: D&H DISTRIBUTING | L28: Need Alt - Sales > $500 | O28: N/A | AF28: 107053.62 | AG28: Y | AH28: 49 | AI28: N | AJ28: N | AK28: N | AO28: N | AP28: N | AQ28: N/A | AR28: N/A | AS28: SharePoint Removes | AT28: X | AU28: Need Alt - Sales > $500.00 | AV28: Provide Alt SKU
A29: 47 | B29: CLEAN/PERSONAL CARE | C29: Michael Davis | D29: 242342 | E29: DETERGENT,DISH,ANTIBAC | F29: EA | G29: 1 | H29: 806 | I29: CLEANING SUPPLIES | J29: 1040446 | K29: PROCTER AND GAMBLE DISTRIBUTING | L29: 404834 | M29: N | N29: 47 | O29: okay | P29: SOAP,DAWN,ULT,ABOR,41OZ | Q29: EA | R29: 1 | S29: 1040446 | T29: PROCTER AND GAMBLE DISTRIBUTING | U29: D | V29: N | W29: N | X29: N | Y29: N | Z29: N | AA29: N | AD29: Do Not Remove | AE29: Essential 60K | AF29: 106959.11 | AG29: Y | AH29: 105 | AI29: N | AJ29: N | AK29: N | AO29: N | AP29: N | AQ29: N/A | AR29: N/A | AS29: SharePoint Removes | AT29: good | AU29: n/a | AV29: n/a
A30: 43 | B30: BREAKROOM | C30: Michael Davis | D30: 208425 | E30: VEGGIE,STRAW,VARIETY,24CT | F30: EA | G30: 1 | H30: 813 | I30: FOOD | J30: 1060404 | K30: G AND J HOLDINGS LLC | L30: Need Alt - Sales > $500 | O30: N/A | AF30: 106021.74 | AG30: Y | AH30: 33 | AI30: N | AJ30: N | AK30: N | AO30: N | AP30: N | AQ30: N/A | AR30: N/A | AS30: SharePoint Removes | AT30: X | AU30: Need Alt - Sales > $500.00 | AV30: Provide Alt SKU
A31: 47 | B31: CLEAN/PERSONAL CARE | C31: Michael Davis | D31: 231214 | E31: TRASH CAN,60L BULLET,SIMPLHMN | F31: EA | G31: 1 | H31: 807 | I31: WASTEBASKETS/BAGS | J31: 815530 | K31: SIMPLEHUMAN LLC | L31: Need Alt - Sales > $500 | O31: N/A | AF31: 100381.38 | AG31: Y | AH31: 193 | AI31: N | AJ31: N | AK31: N | AM31: 470 | AN31: 318 | AO31: N | AP31: N | AQ31: N/A | AR31: N/A | AS31: SharePoint Removes | AT31: X | AU31: Orginal SKU is part of the BSD29 Catalog | AV31: Determing if original SKU should stay in the event - if so, REQUIRES ALT
A32: 47 | B32: CLEAN/PERSONAL CARE | C32: Michael Davis | D32: 231196 | E32: TRASH CAN,60L BLACK,SIMPLHMN | F32: EA | G32: 1 | H32: 807 | I32: WASTEBASKETS/BAGS | J32: 815530 | K32: SIMPLEHUMAN LLC | L32: Need Alt - Sales > $500 | O32: N/A | AF32: 100036.56 | AG32: Y | AH32: 150 | AI32: N | AJ32: N | AK32: N | AM32: 471 | AO32: N | AP32: N | AQ32: N/A | AR32: N/A | AS32: SharePoint Removes | AT32: X | AU32: Orginal SKU is part of the BSD29 Catalog | AV32: Determing if original SKU should stay in the event - if so, REQUIRES ALT
A33: 47 | B33: CLEAN/PERSONAL CARE | C33: Michael Davis | D33: 757445 | E33: CLEANER,DISINFECTANT, LYSOL | F33: EA | G33: 1 | H33: 806 | I33: CLEANING SUPPLIES | J33: 1180892 | K33: SP RICHARDS | L33: 1385443 | M33: N | N33: 43 | O33: okay | P33: Lemon Breeze Trigger 32 oz. | Q33: EA | R33: 1 | S33: 1180892 | T33: SP RICHARDS | U33: D | V33: Y | W33: N | X33: N | Y33: Y | Z33: N | AA33: N | AB33: 435 | AC33: 302 | AD33: Do not remove | AE33: Essential 60K | AF33: 97444.177 | AG33: Y | AH33: 116 | AI33: Y | AJ33: N | AK33: N | AO33: N | AP33: N | AQ33: N/A | AR33: N/A | AS33: SharePoint Removes | AT33: good | AU33: n/a | AV33: n/a
A34: 47 | B34: CLEAN/PERSONAL CARE | C34: Michael Davis | D34: 231268 | E34: TRASH CAN,50L SLIM,SIMPLHMN | F34: EA | G34: 1 | H34: 807 | I34: WASTEBASKETS/BAGS | J34: 815530 | K34: SIMPLEHUMAN LLC | L34: Need Alt - Sales > $500 | O34: N/A | AF34: 95988.707 | AG34: Y | AH34: 153 | AI34: N | AJ34: N | AK34: N | AM34: 470 | AN34: 318 | AO34: N | AP34: N | AQ34: N/A | AR34: N/A | AS34: SharePoint Removes | AT34: X | AU34: Orginal SKU is part of the BSD29 Catalog | AV34: Determing if original SKU should stay in the event - if so, REQUIRES ALT
A35: 43 | B35: BREAKROOM | C35: Michael Davis | D35: 801403 | E35: PACKETS,SWEETENER,TRUVIA | F35: BX | G35: 140 | H35: 809 | I35: COFFEE & CONDIMENTS | J35: 450983 | K35: VISTAR CORP | L35: Need Alt - Sales > $500 | O35: N/A | AF35: 92496.365 | AG35: Y | AH35: 243 | AI35: N | AJ35: N | AK35: N | AO35: N | AP35: N | AQ35: N/A | AR35: N/A | AS35: BSD Master Remove | AT35: X | AU35: Need Alt - Sales > $500.00 | AV35: Provide Alt SKU
A36: 85 | B36: STORAGE | C36: Tina Pruitt Bashiri | D36: 430723 | E36: CRATE,OD,STACK/FILING,BLACK | F36: EA | G36: 1 | H36: 470 | I36: PLASTIC STORAGE | J36: 876255 | K36: UNITED COMB & NOVELTY | L36: Need Alt - Sales > $500 | O36: N/A | AF36: 92243.072 | AG36: Y | AH36: 354 | AI36: N | AJ36: N | AK36: Y | AO36: N | AP36: N | AQ36: N/A | AR36: N/A | AS36: SharePoint Removes | AT36: X | AU36: Need Alt - Sales > $500.00 | AV36: Provide Alt SKU
A37: 43 | B37: BREAKROOM | C37: Michael Davis | D37: 241211 | E37: SPLENDA,SWEET,ORIG,1000CT | F37: BX | G37: 1 | H37: 813 | I37: FOOD | J37: 1060404 | K37: G AND J HOLDINGS LLC | L37: Need Alt - Sales > $500 | O37: N/A | AF37: 87760.569 | AG37: Y | AH37: 33 | AI37: N | AJ37: N | AK37: N | AO37: N | AP37: N | AQ37: N/A | AR37: N/A | AS37: SharePoint Removes | AT37: X | AU37: Need Alt - Sales > $500.00 | AV37: Provide Alt SKU
A38: 66 | B38: BUSINESS MACHINES | C38: Tina Pruitt Bashiri | D38: 312873 | E38: CALCULATOR,PRINTING,HR-150TM | F38: EA | G38: 1 | H38: 223 | I38: CALCULATORS | J38: 1063905 | K38: CASIO AMERICA INC | L38: 561016 | M38: N | N38: 66 | O38: okay | P38: CALCULATOR,PRINTING,EL-1801V | Q38: EA | R38: 1 | S38: 1004217 | T38: VICTOR TECHNOLOGY | U38: D | V38: Y | W38: N | X38: N | Y38: Y | Z38: N | AA38: N | AB38: 623 | AD38: Do not remove | AE38: Essential 60K | AF38: 86312.485 | AG38: Y | AH38: 209 | AI38: Y | AJ38: N | AK38: N | AO38: N | AP38: N | AQ38: N/A | AR38: N/A | AS38: SharePoint Removes | AT38: good | AU38: n/a | AV38: n/a
A39: 43 | B39: BREAKROOM | C39: Michael Davis | D39: 736991 | E39: PIRATE BOOTY,WHITE,CHEDDR,24CT | F39: EA | G39: 1 | H39: 813 | I39: FOOD | J39: 1060404 | K39: G AND J HOLDINGS LLC | L39: Need Alt - Sales > $500 | O39: N/A | AF39: 82951.978 | AG39: Y | AH39: 17 | AI39: N | AJ39: N | AK39: N | AO39: N | AP39: N | AQ39: N/A | AR39: N/A | AS39: SharePoint Removes | AT39: X | AU39: Need Alt - Sales > $500.00 | AV39: Provide Alt SKU
A40: 43 | B40: BREAKROOM | C40: Michael Davis | D40: 429139 | E40: STARBURST,JUICY,ORIGINAL,3LB | F40: EA | G40: 1 | H40: 813 | I40: FOOD | J40: 1060404 | K40: G AND J HOLDINGS LLC | L40: Need Alt - Sales > $500 | O40: N/A | AF40: 81370.527 | AG40: Y | AH40: 25 | AI40: N | AJ40: N | AK40: N | AO40: N | AP40: N | AQ40: N/A | AR40: N/A | AS40: SharePoint Removes | AT40: X | AU40: Need Alt - Sales > $500.00 | AV40: Provide Alt SKU
...

Sheet AY 19-20 Dated Transition
A1: Dept | B1: Dept Name | C1: DMD | D1: Current SKU | E1: Current Item Description | F1: Go Forward SKU (Alt) | G1: Alt Item Description
A2: 4 | B2: Dated & Forms | C2: Robert Giles | D2: 255956 | E2: CALENDAR,WALL,AY19,MTH,15X22 | F2: 6994757 | G2: CALENDER,ACADEMIC,MNTH,WALL
A3: 4 | B3: Dated & Forms | C3: Robert Giles | D3: 241842 | E3: CALENDAR,WALL,AY19,MNTH,15X12 | F3: 6996267 | G3: PLN-A-MO,AY,15X12,WALL,CAL
A4: 4 | B4: Dated & Forms | C4: Robert Giles | D4: 609717 | E4: CALENDAR,DESK,22X17,OD,AY18-19 | F4: 8226619 | G4: CALENDAR,M,DESK,AY20,22X17
A5: 4 | B5: Dated & Forms | C5: Robert Giles | D5: 882563 | E5: DESKPAD,AY19,MTH22X17,2,COLOR | F5: 6994370 | G5: DESKPAD,AY,2/COLOR
A6: 4 | B6: Dated & Forms | C6: Robert Giles | D6: 896862 | E6: PLANNER,AY19,W/M,LRG,PROF,BRN | F6: 9566062 | G6: PLANNER,SIGNATURE,WM,LG,BRN
A7: 4 | B7: Dated & Forms | C7: Robert Giles | D7: 960464 | E7: PLANNER,AY19,W/M,SM,PROF,BRN | F7: 9566076 | G7: PLANNER,SIGNATURE,WM,SM,BRN
A8: 4 | B8: Dated & Forms | C8: Robert Giles | D8: 216377 | E8: PLANNER,AY19,M,8.8X11,DKGRAY | F8: 9566111 | G8: PLANNER,SIGNATURE,M,LG,GRY
A9: 4 | B9: Dated & Forms | C9: Robert Giles | D9: 862487 | E9: PLANNER,AY19,WM,9X11,ASPIRE | F9: 6996378 | G9: ASPIRE,DESK/PROFESSIONAL,WK/MO
A10: 4 | B10: Dated & Forms | C10: Robert Giles | D10: 894779 | E10: PLANNER,AY19,WM,5.75X8.5,DKGRY | F10: 9566140 | G10: PLANNER,SIGNATURE,WM,SM,GRY
A11: 4 | B11: Dated & Forms | C11: Robert Giles | D11: 198192 | E11: PLANNER,AY19,WM,5.5X8.5,ASPIRE | F11: 6996416 | G11: DESK,WEEKLY,MONTHLY,,ASPIRE
A12: 4 | B12: Dated & Forms | C12: Robert Giles | D12: 935567 | E12: PLANNER,AY19,WK/MO,5X8,PRP | F12: 9567997 | G12: PLANNER,CONTEMPO,WM,SM,PRPLE
A13: 4 | B13: Dated & Forms | C13: Robert Giles | D13: 417223 | E13: PLANNER,AY19,WK/MO,8X11,PRP | F13: 9568085 | G13: PLANNER,CONTEMPO,WM,LG,PRPLE
... A58: 4 | B58: Dated & Forms | C58: Robert Giles | D58: 617603 | E58: PLANNER,WM,6X8,STELLAR,BU,AY19 | F58: 3693602 | G58: PLANNR,WM,6X8,STELLAR,BLU,AY20

Sheet AY 19-20 Dated Transition V2
A1: Dept | B1: Dept Name | C1: DMD | D1: Current SKU | E1: Current Item Description | F1: Go Forward SKU (Alt) | G1: Alt Item Description
A2: 4 | B2: Dated & Forms | C2: Robert Giles | D2: 255956 | E2: CALENDAR,WALL,AY19,MTH,15X22 | F2: 6994757 | G2: CALENDER,ACADEMIC,MNTH,WALL
A3: 4 | B3: Dated & Forms | C3: Robert Giles | D3: 241842 | E3: CALENDAR,WALL,AY19,MNTH,15X12 | F3: 6996267 | G3: PLN-A-MO,AY,15X12,WALL,CAL
A4: 4 | B4: Dated & Forms | C4: Robert Giles | D4: 609717 | E4: CALENDAR,DESK,22X17,OD,AY18-19 | F4: 8226619 | G4: CALENDAR,M,DESK,AY20,22X17
A5: 4 | B5: Dated & Forms | C5: Robert Giles | D5: =VLOOKUP(F54,Sheet3!$A$2:$D$52,4,FALSE) -> 831797 | E5: PLANNER,MTHY,AY19,9X11,BLACK | F5: 9565886 | G5: DESKPAD,AY,STND,CONTEMPO
A6: 4 | B6: Dated & Forms | C6: Robert Giles | D6: 882563 | E6: DESKPAD,AY19,MTH22X17,2,COLOR | F6: 6994370 | G6: DESKPAD,AY,2/COLOR
A7: 4 | B7: Dated & Forms | C7: Robert Giles | D7: 896862 | E7: PLANNER,AY19,W/M,LRG,PROF,BRN | F7: 9566062 | G7: PLANNER,SIGNATURE,WM,LG,BRN
A8: 4 | B8: Dated & Forms | C8: Robert Giles | D8: 960464 | E8: PLANNER,AY19,W/M,SM,PROF,BRN | F8: 9566076 | G8: PLANNER,SIGNATURE,WM,SM,BRN
A9: 4 | B9: Dated & Forms | C9: Robert Giles | D9: 216377 | E9: PLANNER,AY19,M,8.8X11,DKGRAY | F9: 9566111 | G9: PLANNER,SIGNATURE,M,LG,GRY
A10: 4 | B10: Dated & Forms | C10: Robert Giles | D10: 862487 | E10: PLANNER,AY19,WM,9X11,ASPIRE | F10: 6996378 | G10: ASPIRE,DESK/PROFESSIONAL,WK/MO
A11: 4 | B11: Dated & Forms | C11: Robert Giles | D11: 894779 | E11: PLANNER,AY19,WM,5.75X8.5,DKGRY | F11: 9566140 | G11: PLANNER,SIGNATURE,WM,SM,GRY
A12: 4 | B12: Dated & Forms | C12: Robert Giles | D12: 198192 | E12: PLANNER,AY19,WM,5.5X8.5,ASPIRE | F12: 6996416 | G12: DESK,WEEKLY,MONTHLY,,ASPIRE
A13: 4 | B13: Dated & Forms | C13: Robert Giles | D13: =VLOOKUP(F62,Sheet3!$A$2:$D$52,4,FALSE) -> 169613 | E13: PLANNER,AY19,WM,5.68X8,EMMA | F13: 9566269 | G13: PLANNER,HARMONY,WM,LG,BRY
A14: 4 | B14: Dated & Forms | C14: Robert Giles | D14: =VLOOKUP(F63,Sheet3!$A$2:$D$52,4,FALSE) -> 725822 | E14: PLANNER,AY19,WM,9.25X11.38,EMA | F14: 9566292 | G14: PLANNER,HARMONY,DM,MED,BRY
A15: 4 | B15: Dated & Forms | C15: Robert Giles | D15: =VLOOKUP(F64,Sheet3!$A$2:$D$52,4,FALSE) -> 454217 | E15: DESKPAD,MAY19,10.88X17.75,ROSE | F15: 6997013 | G15: BUTTERCUP,SMALL,WEEKLY/MONTHLY
A16: 4 | B16: Dated & Forms | C16: Robert Giles | D16: =VLOOKUP(F65,Sheet3!$A$2:$D$52,4,FALSE) -> 722351 | E16: PLANNER,AY19,WM,9.88X11.38,CAR | F16: 6996591 | G16: BUTTERCUP,LARGE,WEEKLY/MONTHLY
A17: 4 | B17: Dated & Forms | C17: Robert Giles | D17: 604157 | E17: PLANNER,AY19,WM,5.75X8.125,BDG | F17: 6997533 | G17: PLANNER,BADGE,FLORAL,SMALL,W/M
A18: 4 | B18: Dated & Forms | C18: Robert Giles | D18: 181506 | E18: PLANNER,AY19,WM,9.88X11.38,BDG | F18: 6997541 | G18: PLANNER,BADGE,FLORAL,LARGE
A19: 4 | B19: Dated & Forms | C19: Robert Giles | D19: 604157 | E19: PLANNER,AY19,WM,5.75X8.125,BDG | F19: 9566842 | G19: PLANNER,BADGE,M,PKT,FLORAL
A20: 4 | B20: Dated & Forms | C20: Robert Giles | D20: 722351 | E20: PLANNER,AY19,WM,9.88X11.38,CAR | F20: 6995002 | G20: BADGE,STRIPE,WEEKLY/MONTHLY
A21: 4 | B21: Dated & Forms | C21: Robert Giles | D21: 397931 | E21: PLANNER,AY19,WM,5.75X8.125,CAR | F21: 6995214 | G21: BADGE,STRIPE,WEEKLY/MONTHLY
A22: 4 | B22: Dated & Forms | C22: Robert Giles | D22: 397931 | E22: PLANNER,AY19,WM,5.75X8.125,CAR | F22: 6995270 | G22: BADGE,STRIPE,2,YR,PLANNER
A23: 4 | B23: Dated & Forms | C23: Robert Giles | D23: 249244 | E23: PLANNER,AY19,WM,5.5X8.5,JUNE | F23: 6995627 | G23: IVORY,ELLA,SMALL,POLY,W/M
A24: 4 | B24: Dated & Forms | C24: Robert Giles | D24: 870500 | E24: PLANNER,AY19,WM,9X11,JUNE | F24: 6995645 | G24: IVORY,ELLA,LRG,W/M,POLY
A25: 4 | B25: Dated & Forms | C25: Robert Giles | D25: 896862 | E25: PLANNER,AY19,W/M,LRG,PROF,BRN | F25: 9567845 | G25: PLANNER,SIGNATURE,WM,LG,NVY
A26: 4 | B26: Dated & Forms | C26: Robert Giles | D26: 960464 | E26: PLANNER,AY19,W/M,SM,PROF,BRN | F26: 9567916 | G26: PLANNER,SIGNATURE,WM,SM,NVY
A27: 4 | B27: Dated & Forms | C27: Robert Giles | D27: 935567 | E27: PLANNER,AY19,WK/MO,5X8,PRP | F27: 9567997 | G27: PLANNER,CONTEMPO,WM,SM,PRPLE
A28: 4 | B28: Dated & Forms | C28: Robert Giles | D28: 417223 | E28: PLANNER,AY19,WK/MO,8X11,PRP | F28: 9568085 | G28: PLANNER,CONTEMPO,WM,LG,PRPLE
... A30: 4 | B30: Dated & Forms | C30: Robert Giles | D30: 610217 | E30: PLANNER,AY19,WM,8.88X11.38,TEA | F30: 9261202 | G30: APPOINTMENTBOOK,CONTMP,LG,TEAL
A31: 4 | B31: Dated & Forms | C31: Robert Giles | D31: =VLOOKUP(F80,Sheet3!$A$2:$D$52,4,FALSE) -> 356345 | E31: PLANNER,AY19,WM,9.88X11.38,ARI | F31: 9360274 | G31: PLANNER,WK/MTH,AY19-20
A32: 4 | B32: Dated & Forms | C32: Robert Giles | D32: 473948 | E32: PLANNER,AY19,WK/MO,5X8,BLK | F32: 9748052 | G32: WALL,CAL,DLY,RY19,7X9,BLK
A33: 4 | B33: Dated & Forms | C33: Robert Giles | D33: 790502 | E33: PLANNER,WM,AY19,9X11,POLY,BLK | F33: 9564041 | G33: PLANNER,PEYTON,8.5X11,AY20,WM
A34: 4 | B34: Dated & Forms | C34: Robert Giles | D34: 761145 | E34: PLANNER,,AY19,WKLY,8.25X10,BLK | F34: 9564088 | G34: PLANNER,PYTNWHT,5X8,AY20,WM
A35: 4 | B35: Dated & Forms | C35: Robert Giles | D35: 637041 | E35: PLANNER,AY19,W/M,8.5X11,CHAR | F35: 9564315 | G35: DESKPAD,PEYTNWHT,22X17,AY20,WM
A36: 4 | B36: Dated & Forms | C36: Robert Giles | D36: 634871 | E36: PLANNER,MO,AY19,8.38X11,CHARCO | F36: 9564410 | G36: WALL,CALL,PEYTNWHT,11X8,AY20,M
A37: 4 | B37: Dated & Forms | C37: Robert Giles | D37: 777856 | E37: PLANNER,DESK,AY19,MTH,9X11,BLK | F37: 9564433 | G37: PLANNER,PTONAVY,8.5X11,AY20,M
A38: 4 | B38: Dated & Forms | C38: Robert Giles | D38: 907941 | E38: PLANNER,WKMO,REC,AY19,8X11,BLK | F38: 9360274 | G38: PLANNER,WK/MTH,AY19-20
A39: 4 | B39: Dated & Forms | C39: Robert Giles | D39: 731573 | E39: PLANNER,WKMO,AY19,5X8,CHARCOAL | F39: 5953655 | G39: PLANNER,8X11,AY20,WM
A40: 4 | B40: Dated & Forms | C40: Robert Giles | D40: 721263 | E40: PLANNER,WKMO,AY19,9X11,CHARC | F40: 9294315 | G40: WALLCAL,15X12,DOTS,AY20,M
A41: 4 | B41: Dated & Forms | C41: Robert Giles | D41: 960467 | E41: PLANNER,DAILY,AY19,5X8,BLACK | F41: 9565277 | G41: WALL,CALL,STRIPES,11X8,AY20,M
...
