Workbook
Name checkmate: #REF!
Name Commodity: [1]Dataset!#REF!
Name dated2020: #REF!
Name desc6: #REF!
Name DISKU2: #REF!
Name exhibit2: #REF!
Name initsalesdoc: #REF!

Sheet DEPOT ASSORTMENT MIX 
A1: 24e VPN | B1: 23e VPN | C1: 22e VPN | D1: 24e Depot SKU | E1: 23e Depot SKU | F1: 2024 SECTION | G1: 2024 SHELF | H1: 2024 Space | I1: 2023 section | J1: 2023 shelf | K1: 2023space | L1: Retail 24e SKU | M1: Retail 23e SKU | N1: BSD 24e SKU | O1: BSD 23e SKU | P1: 24e Placement | Q1: 23e Placement | R1: CY SKU | S1: LY SKU | T1: 24 RETAIL CY RECOMMENDED PLACEMENT | U1: 24 BSD/.COM RECOMMENDED PLACEMENT | V1: NOTES/COMMENTS | W1: PRODUCT HIERARCHY 2 | X1: SAP DESCRIPTION | Y1: CUSTOMER DESCRIPTION | Z1: SUB CLASS | AA1: DATE CODE (RY, AY, UN) | AB1: COLLECTION | AC1: FASHION CONTINUUM | AD1: TYPE OF CORE | AE1: COVER TYPE | AF1: VENDOR | AG1: BRAND | AH1: FORMAT | AI1: PAGE SIZE | AJ1: SPACE (TRUE SIZE) | AK1: PROCUREMENT TYPE | AL1: CY PRIMARY LOCATION | AM1: LY PRIMARY LOCATION | AN1: COMPARABLE LOCATION | AO1: 24 ED STORE COUNT (Assumped) | AP1: 23 ED STORE COUNT | AQ1: 24 ED SET IN STORE DATE | AR1: 23 ED SET IN STORE DATE | AS1: 24 ED INVOICE PRICE | AT1: 24 dead net | AU1: 23 ED INVOICE PRICE | AV1: 24e Invoice Price Increase | AW1: 2023 Dead Net | AX1: 24 ED SHELF PRICE | AY1: 23 ED SHELF PRICE | AZ1: 24 ED MSRP (LIST) | BA1: 23 ED MSRP (LIST) | BB1: 24 ED GM | BC1: 23 ED GM | BD1: Depot Season to Date | BE1: Depot Projected Annual | BF1: 23e RETAIL Season to Date Units (Wk 35) | BG1: 23e RETAIL Season to Date COGs (Wk 35) | BH1: % thru Season | BI1: 22e RETAIL Full Season Units | BJ1: 22e RETAIL units /store | BK1: 23e RETAIL Calculated Full Season Units | BL1: 23e RETAIL Calculated Full Season SALES | BM1: 23e RETAIL Calculated Full Season COGS | BN1: 23e RETAIL Units/Store | BO1: 24e RETAIL Units/Store Forecast | BP1: 24e RETAIL Total Forecast Units | BQ1: 24e RETAIL Total Forecast Sales | BR1: 24e RETAIL Total Forecast COGS | BS1: 23e BSD/.COM Season to Date Units (Wk 38) | BT1: 23e BSD/.COM Season to Date COGS (Wk 38) | BU1: % thru Season | BV1: 22e BSD/.com Full Season Units | BW1: 23e BSD/.COM Calculated Full Season Units | BX1: 23e BSD/.COM Calculated Full Season SALES | BY1: 23e BSD/.COM Calculated Full Season COGS | BZ1: 24e BSD/.COM Total Forecast Units | CA1: 24e BSD/.COM Total Forecast Sales | CB1: 24e BSD/.COM Total Forecast COGS | CC1: Depot bsd 23 SEASON TO DATE | CD1: Depot bsd 23 TTL PROJECTION | CE1: 24 bsd unit forecast | CF1: 24 bsd sales | CG1: 24 bsd igm | CH1: rate | CI1: ASP | CJ1: Depot Ecom 23 SEASON TO DATE | CK1: depot ECOM 23 TTL PROJECTION | CL1: 24 ecom unit forecast | CM1: 24 ecom sales | CN1: 24 ecom igm | CO1: rate | CP1: ASP | CQ1: 23e TOTAL Calculated Full Season Units | CR1: 23e TOTAL Calculated Full Seaon Sales | CS1: 23e TOTAL Calculated Full Season COGS | CT1: 24e TOTAL Total Forecast Units | CU1: 24e TOTAL Total Forecast Sales | CV1: 24e TOTAL Total Forecast COGS | CW1: 24e TOTAL Total Forecast Margin $ | CX1: EXTRA 3 | CY1: EXTRA 4 | CZ1: EXTRA 5 | DA1: EXTRA 6
A2: E0175024 | B2: E0175023 | C2: E0175022 | E2: 7704668 | I2: 2 | J2: 7 | K2: 22 | L2: 1 | M2: 1 | N2: 1 | O2: 1 | P2: All Channels | Q2: All Channels | R2: =IF(L2+N2>0,1,0) -> 1 | S2: =IF(M2+O2>0,1,0) -> 1 | T2: KEEP | U2: KEEP | W2: DESK REFILL | X2: F,E01750,LSLF 2/C DAY BX TAB,DTD RFL,23 | Z2: DESK CALENDAR REFILLS/BASES | AA2: RY | AB2: TRADITIONAL | AC2: CORE | AF2: ACCO | AG2: AT-A-GLANCE | AH2: DAILY | AI2: MINI | AL2: INLINE DESK PADS | AM2: INLINE DESK PADS | AN2: INLINE DESK PADS | AO2: 1000 | AP2: 1039 | AQ2: MAY | AR2: MAY | AS2: 5.6389 | AT2: 5.6389 | AU2: 5.27 | AV2: =IFERROR(((AS2-AU2)/AU2),"") -> 0.07 | AW2: 5.27 | AX2: 16.99 | AY2: 15.49 | BA2: 19.49 | BB2: =IFERROR(((AX2-AS2)/AX2),"") -> 0.66810477 | BC2: =IFERROR(((AY2-AU2)/AY2),"") -> 0.6597805 | BF2: 481 | BG2: 2534.87 | BH2: 0.124 | BI2: 8477 | BJ2: 7.495137 | BK2: 3879.0323 | BL2: 60086.21 | BM2: 20442.5 | BN2: 3.7334285 | BO2: 3.7334285 | BP2: 3733.4285 | BS2: 126 | BT2: 664.02 | BU2: 0.1 | BV2: 1050 | BW2: 1260 | BY2: 6640.2 | BZ2: 1200 | CJ2: =IFERROR(VLOOKUP($E2,[2]ECOM!$A$3:$FC$999999,158,FALSE),0) -> 711.33333 | CK2: =IFERROR(VLOOKUP($E2,[2]ECOM!$A$3:$FC$999999,159,FALSE),0) -> 808.33333 | CQ2: 5139.0323 | CS2: 27082.7 | CT2: 4933.4285 | CU2: 83818.951 | CV2: 27819.11 | CW2: 55999.841
A3: E17-00 | B3: E17-00 | C3: E17-00 | D3: 677674 | E3: 677674 | I3: 2 | J3: 7 | K3: 21 | L3: 1 | M3: 1 | N3: 1 | O3: 1 | P3: All Channels | Q3: All Channels | R3: =IF(L3+N3>0,1,0) -> 1 | S3: =IF(M3+O3>0,1,0) -> 1 | T3: KEEP | U3: KEEP | W3: DESK REFILL | X3: F,E1700,CAL PLASTIC BASE (20),BLK,UN | Z3: DESK CALENDAR REFILLS/BASES | AA3: UN | AB3: TRADITIONAL | AC3: CORE | AF3: ACCO | AG3: AT-A-GLANCE | AH3: UNDATED | AI3: LARGE | AL3: INLINE DESK PADS | AM3: INLINE DESK PADS | AN3: INLINE DESK PADS | AO3: 1000 | AP3: 1039 | AQ3: MAY | AR3: MAY | AS3: 9.3110972 | AT3: 9.3110972 | AU3: 8.70196 | AV3: =IFERROR(((AS3-AU3)/AU3),"") -> 0.07 | AW3: 8.70196 | AX3: 25.99 | AY3: 23.99 | BA3: 27.09 | BB3: =IFERROR(((AX3-AS3)/AX3),"") -> 0.64174309 | BC3: =IFERROR(((AY3-AU3)/AY3),"") -> 0.63726719 | BF3: 275 | BG3: 2101 | BH3: 0.124 | BI3: 2166 | BJ3: 1.9151194 | BK3: 2217.7419 | BL3: 53203.629 | BM3: 19298.702 | BN3: 2.1344966 | BO3: 2.1344966 | BP3: 2134.4966 | BS3: 701 | BT3: 5355.64 | BU3: 0.1 | BV3: 4248 | BW3: 7010 | BY3: 53556.4 | BZ3: 5600 | CJ3: =IFERROR(VLOOKUP($E3,[2]ECOM!$A$3:$FC$999999,158,FALSE),0) -> 1400.6667 | CK3: =IFERROR(VLOOKUP($E3,[2]ECOM!$A$3:$FC$999999,159,FALSE),0) -> 1591.6667 | CQ3: 9227.7419 | CS3: 72855.102 | CT3: 7734.4966 | CU3: 201019.57 | CV3: 72016.649 | CW3: 129002.92
A4: OD20100024 | B4: OD20100023 | C4: OD20100022 | E4: 7204588 | I4: 2 | J4: 6 | K4: 14 | L4: 1 | M4: 1 | N4: 1 | O4: 1 | P4: All Channels | Q4: All Channels | R4: =IF(L4+N4>0,1,0) -> 1 | S4: =IF(M4+O4>0,1,0) -> 1 | T4: KEEP | U4: KEEP | W4: DESK PAD | X4: F,7204588,ZODP CMPCT DSK PAD,BLK,23 | Z4: DESK PAD | AA4: RY | AB4: PRIVATE BRAND | AC4: CORE | AF4: ACCO | AG4: PRIVATE BRAND A | AH4: MONTHLY | AI4: COMPACT | AL4: INLINE DESK PADS | AM4: INLINE DESK PADS | AN4: INLINE DESK PADS | AO4: 1000 | AP4: 1039 | AQ4: MAY | AR4: MAY | AU4: 1.96 | AV4: =IFERROR(((AS4-AU4)/AU4),"") -> -1 | AW4: 1.96 | AY4: 11.99 | BA4: 11.99 | BB4: =IFERROR(((AX4-AS4)/AX4),"") | BC4: =IFERROR(((AY4-AU4)/AY4),"") -> 0.83653044 | BF4: 1038 | BG4: 2034.48 | BH4: 0.124 | BI4: 21313 | BJ4: 18.844385 | BK4: 8370.9677 | BL4: 100367.9 | BM4: 16407.097 | BN4: 8.0567543 | BO4: 8.0567543 | BP4: 8056.7543 | BS4: 1310 | BT4: 2567.6 | BU4: 0.1 | BV4: 23778 | BW4: 13100 | BY4: 25676 | BZ4: 15000 | CJ4: =IFERROR(VLOOKUP($E4,[2]ECOM!$A$3:$FC$999999,158,FALSE),0) -> 1635.3333 | CK4: =IFERROR(VLOOKUP($E4,[2]ECOM!$A$3:$FC$999999,159,FALSE),0) -> 1858.3333 | CQ4: 21470.968 | CS4: 42083.097 | CT4: 23056.754 | CU4: 0 | CV4: 0 | CW4: 0
A5: SK220024 | B5: SK220023 | C5: SK220022 | E5: 6381722 | I5: 1 | J5: 7 | K5: 20 | L5: 1 | M5: 1 | N5: 1 | O5: 1 | P5: All Channels | Q5: All Channels | R5: =IF(L5+N5>0,1,0) -> 1 | S5: =IF(M5+O5>0,1,0) -> 1 | T5: KEEP | U5: KEEP | W5: DESK PAD | X5: F,SK2200,DSK PAD MNTH RFLABLE,BLK,23 | Z5: DESK PAD | AA5: RY | AB5: TRADITIONAL | AC5: CORE | AF5: ACCO | AG5: AT-A-GLANCE | AH5: MONTHLY | AI5: STANDARD | AL5: INLINE DESK PADS | AM5: INLINE DESK PADS | AN5: INLINE DESK PADS | AO5: 1000 | AP5: 904 | AQ5: MAY | AR5: MAY | AS5: 13.3643 | AT5: 13.3643 | AU5: 12.49 | AV5: =IFERROR(((AS5-AU5)/AU5),"") -> 0.07 | AW5: 12.49 | AX5: 33.99 | AY5: 31.49 | BA5: 47.99 | BB5: =IFERROR(((AX5-AS5)/AX5),"") -> 0.60681671 | BC5: =IFERROR(((AY5-AU5)/AY5),"") -> 0.60336615 | BF5: 396 | BG5: 4946.04 | BH5: 0.124 | BI5: 5820 | BJ5: 5.7566766 | BK5: 3193.5484 | BL5: 100564.84 | BM5: 39887.419 | BN5: 3.5326863 | BO5: 3.5326863 | BP5: 3532.6863 | BS5: 102 | BT5: 1273.98 | BU5: 0.1 | BV5: 1774 | BW5: 1020 | BY5: 12739.8 | BZ5: 1400 | CJ5: =IFERROR(VLOOKUP($E5,[2]ECOM!$A$3:$FC$999999,158,FALSE),0) -> 278.66667 | CK5: =IFERROR(VLOOKUP($E5,[2]ECOM!$A$3:$FC$999999,159,FALSE),0) -> 316.66667 | CQ5: 4213.5484 | CS5: 52627.219 | CT5: 4932.6863 | CU5: 167662.01 | CV5: 65921.899 | CW5: 101740.11
A6: SK23FD0024 | B6: SK23FD0023 | C6: SK23FD0022 | E6: 7305032 | I6: 2 | J6: 6 | K6: 16 | L6: 1 | M6: 1 | N6: 1 | O6: 1 | P6: All Channels | Q6: All Channels | R6: =IF(L6+N6>0,1,0) -> 1 | S6: =IF(M6+O6>0,1,0) -> 1 | T6: KEEP | U6: KEEP | W6: DESK PAD | X6: F,STD FOLDABLE MNTH DSKPD,23 | Z6: DESK PAD | AA6: RY | AB6: FOLDABLE DP | AC6: CORE | AD6: NEW | AF6: ACCO | AG6: AT-A-GLANCE | AH6: MONTHLY | AI6: STANDARD | AL6: INLINE DESK PADS | AM6: INLINE DESK PADS | AN6: INLINE DESK PADS | AO6: 1000 | AP6: 1017 | AQ6: MAY | AR6: MAY | AS6: 5.457 | AT6: 5.457 | AU6: 5.1 | AV6: =IFERROR(((AS6-AU6)/AU6),"") -> 0.07 | AW6: 5.1 | AX6: 17.99 | AY6: 16.49 | BA6: 20.49 | BB6: =IFERROR(((AX6-AS6)/AX6),"") -> 0.69666481 | BC6: =IFERROR(((AY6-AU6)/AY6),"") -> 0.69072165 | BF6: 144 | BG6: 734.4 | BH6: 0.124 | BI6: 2699 | BJ6: 2.3863837 | BK6: 1161.2903 | BL6: 19149.677 | BM6: 5922.5806 | BN6: 1.1418784 | BO6: 1.1418784 | BP6: 1141.8784 | BS6: 63 | BT6: 321.3 | BU6: 0.1 | BV6: 351 | BW6: 630 | BY6: 3213 | BZ6: 600 | CJ6: =IFERROR(VLOOKUP($E6,[2]ECOM!$A$3:$FC$999999,158,FALSE),0) -> 139.33333 | CK6: =IFERROR(VLOOKUP($E6,[2]ECOM!$A$3:$FC$999999,159,FALSE),0) -> 158.33333 | CQ6: 1791.2903 | CS6: 9135.5806 | CT6: 1741.8784 | CU6: 31336.392 | CV6: 9505.4304 | CW6: 21830.962
A7: SK38-704-24 | B7: SK38-704-23 | C7: SK38-704-22 | E7: 9889501 | I7: 2 | J7: 6 | K7: 18 | L7: 1 | M7: 1 | N7: 1 | O7: 1 | P7: All Channels | Q7: All Channels | R7: =IF(L7+N7>0,1,0) -> 1 | S7: =IF(M7+O7>0,1,0) -> 1 | T7: KEEP | U7: KEEP | W7: DESK PAD | X7: F,AAG BEAUTIFUL DAY STANDARD DESK,23 | Z7: DESK PAD | AA7: RY | AB7: BEAUTIFUL DAY | AC7: FASHION | AF7: ACCO | AG7: AT-A-GLANCE | AH7: MONTHLY | AI7: STANDARD | AL7: INLINE DESK PADS | AM7: INLINE DESK PADS | AN7: INLINE DESK PADS | AO7: 1000 | AP7: 1039 | AQ7: MAY | AR7: MAY | AS7: 8.0892 | AT7: 8.0892 | AU7: 7.56 | AV7: =IFERROR(((AS7-AU7)/AU7),"") -> 0.07 | AW7: 7.56 | AX7: 22.99 | AY7: 20.99 | BA7: 21.59 | BB7: =IFERROR(((AX7-AS7)/AX7),"") -> 0.64814267 | BC7: =IFERROR(((AY7-AU7)/AY7),"") -> 0.63982849 | BF7: 796 | BG7: 6017.76 | BH7: 0.124 | BI7: 8358 | BJ7: 7.3899204 | BK7: 6419.3548 | BL7: 134742.26 | BM7: 48530.323 | BN7: 6.1783973 | BO7: 6.1783973 | BP7: 6178.3973 | BS7: 1085 | BT7: 8202.6 | BU7: 0.1 | BV7: 7559 | BW7: 10850 | BY7: 82026 | BZ7: 8000 | CJ7: =IFERROR(VLOOKUP($E7,[2]ECOM!$A$3:$FC$999999,158,FALSE),0) -> 2845.3333 | CK7: =IFERROR(VLOOKUP($E7,[2]ECOM!$A$3:$FC$999999,159,FALSE),0) -> 3233.3333 | CQ7: 17269.355 | CS7: 130556.32 | CT7: 14178.397 | CU7: 325961.35 | CV7: 114691.89 | CW7: 211269.46
A8: SK7000024 | B8: SK7000023 | C8: SK7000022 | E8: 8797724 | I8: 1 | J8: 6 | K8: 18 | L8: 1 | M8: 1 | N8: 1 | O8: 1 | P8: All Channels | Q8: All Channels | R8: =IF(L8+N8>0,1,0) -> 1 | S8: =IF(M8+O8>0,1,0) -> 1 | T8: KEEP | U8: KEEP | W8: DESK PAD | X8: F,SK70000,QN DSK CAL MNTH,BLK,23 | Z8: DESK PAD | AA8: RY | AB8: QUICKNOTES | AC8: CORE | AF8: ACCO | AG8: AT-A-GLANCE | AH8: MONTHLY | AI8: STANDARD | AL8: INLINE DESK PADS | AM8: INLINE DESK PADS | AN8: INLINE DESK PADS | AO8: 1000 | AP8: 904 | AQ8: MAY | AR8: MAY | AS8: 7.7147 | AT8: 7.7147 | AU8: 7.21 | AV8: =IFERROR(((AS8-AU8)/AU8),"") -> 0.07 | AW8: 7.21 | AX8: 22.99 | AY8: 21.49 | BA8: 26.09 | BB8: =IFERROR(((AX8-AS8)/AX8),"") -> 0.66443236 | BC8: =IFERROR(((AY8-AU8)/AY8),"") -> 0.66449511 | BF8: 432 | BG8: 3114.72 | BH8: 0.124 | BI8: 4799 | BJ8: 4.7467854 | BK8: 3483.871 | BL8: 74868.387 | BM8: 25118.71 | BN8: 3.8538396 | BO8: 3.8538396 | BP8: 3853.8396 | BS8: 576 | BT8: 4152.96 | BU8: 0.1 | BV8: 9942 | BW8: 5760 | BY8: 41529.6 | BZ8: 5700 | CJ8: =IFERROR(VLOOKUP($E8,[2]ECOM!$A$3:$FC$999999,158,FALSE),0) -> 1855.3333 | CK8: =IFERROR(VLOOKUP($E8,[2]ECOM!$A$3:$FC$999999,159,FALSE),0) -> 2108.3333 | CQ8: 9243.871 | CS8: 66648.31 | CT8: 9553.8396 | CU8: 219642.77 | CV8: 73705.006 | CW8: 145937.77
A9: SK7100024 | B9: SK7100023 | C9: SK7100022 | E9: 5471134 | I9: 2 | J9: 6 | K9: 15 | L9: 1 | M9: 1 | N9: 1 | O9: 1 | P9: All Channels | Q9: All Channels | R9: =IF(L9+N9>0,1,0) -> 1 | S9: =IF(M9+O9>0,1,0) -> 1 | T9: KEEP | U9: KEEP | W9: DESK PAD | X9: F,SK71000,QN DSK PAD MNTH,BLK,23 | Z9: DESK PAD | AA9: RY | AB9: QUICKNOTES | AC9: CORE | AF9: ACCO | AG9: AT-A-GLANCE | AH9: MONTHLY | AI9: COMPACT | AL9: INLINE DESK PADS | AM9: INLINE DESK PADS | AN9: INLINE DESK PADS | AO9: 1000 | AP9: 1039 | AQ9: MAY | AR9: MAY | AS9: 6.3772 | AT9: 6.3772 | AU9: 5.96 | AV9: =IFERROR(((AS9-AU9)/AU9),"") -> 0.07 | AW9: 5.96 | AX9: 20.49 | AY9: 18.99 | BA9: 22.09 | BB9: =IFERROR(((AX9-AS9)/AX9),"") -> 0.68876525 | BC9: =IFERROR(((AY9-AU9)/AY9),"") -> 0.68615061 | BF9: 663 | BG9: 3951.48 | BH9: 0.124 | BI9: 7137 | BJ9: 6.3103448 | BK9: 5346.7742 | BL9: 101535.24 | BM9: 31866.774 | BN9: 5.1460772 | BO9: 5.1460772 | BP9: 5146.0772 | BS9: 403 | BT9: 2401.88 | BU9: 0.1 | BV9: 3185 | BW9: 4030 | BY9: 24018.8 | BZ9: 3500 | CJ9: =IFERROR(VLOOKUP($E9,[2]ECOM!$A$3:$FC$999999,158,FALSE),0) -> 454.66667 | CK9: =IFERROR(VLOOKUP($E9,[2]ECOM!$A$3:$FC$999999,159,FALSE),0) -> 516.66667 | CQ9: 9376.7742 | CS9: 55885.574 | CT9: 8646.0772 | CU9: 177158.12 | CV9: 55137.763 | CW9: 122020.36
A10: SK75240024 | B10: SK75240023 | C10: SK75240022 | E10: 7587454 | I10: 1 | J10: 5 | K10: 16 | L10: 1 | M10: 1 | N10: 1 | O10: 1 | P10: All Channels | Q10: All Channels | R10: =IF(L10+N10>0,1,0) -> 1 | S10: =IF(M10+O10>0,1,0) -> 1 | T10: KEEP | U10: KEEP | W10: DESK PAD | X10: F,ELEVATION STD MNTH DSK PAD,23 | Z10: DESK PAD | AA10: RY | AB10: ELEVATION | AC10: CORE | AD10: NEW | AF10: ACCO | AG10: AT-A-GLANCE | AH10: MONTHLY | AI10: STANDARD | AL10: INLINE DESK PADS | AM10: INLINE DESK PADS | AN10: INLINE DESK PADS | AO10: 1000 | AP10: 904 | AQ10: MAY | AR10: MAY | AS10: 6.9122 | AT10: 6.9122 | AU10: 6.46 | AV10: =IFERROR(((AS10-AU10)/AU10),"") -> 0.07 | AW10: 6.46 | AX10: 20.49 | AY10: 18.99 | BA10: 21.09 | BB10: =IFERROR(((AX10-AS10)/AX10),"") -> 0.66265495 | BC10: =IFERROR(((AY10-AU10)/AY10),"") -> 0.65982096 | BF10: 451 | BG10: 2913.46 | BH10: 0.124 | BI10: 6539 | BJ10: 6.4678536 | BK10: 3637.0968 | BL10: 69068.468 | BM10: 23495.645 | BN10: 4.0233371 | BO10: 4.0233371 | BP10: 4023.3371 | BS10: 17 | BT10: 109.82 | BU10: 0.1 | BV10: 235 | BW10: 170 | BY10: 1098.2 | BZ10: 200 | CJ10: =IFERROR(VLOOKUP($E10,[2]ECOM!$A$3:$FC$999999,158,FALSE),0) -> 95.333333 | CK10: =IFERROR(VLOOKUP($E10,[2]ECOM!$A$3:$FC$999999,159,FALSE),0) -> 108.33333 | CQ10: 3807.0968 | CS10: 24593.845 | CT10: 4223.3371 | CU10: 86536.178 | CV10: 29192.551 | CW10: 57343.627
A11: SP717D5024 | B11: SP717D5023 | C11: SP717D5022 | E11: 7078885 | I11: 2 | J11: 7 | K11: 23 | L11: 1 | M11: 1 | N11: 1 | O11: 1 | P11: All Channels | Q11: All Channels | R11: =IF(L11+N11>0,1,0) -> 1 | S11: =IF(M11+O11>0,1,0) -> 1 | T11: KEEP | U11: KEEP | W11: DESK REFILL | X11: F,7078885,ZODP E717 DTD RFL,23 | Z11: DESK CALENDAR REFILLS/BASES | AA11: RY | AB11: TRADITIONAL | AC11: CORE | AF11: ACCO | AG11: PRIVATE BRAND A | AH11: DAILY | AI11: MINI | AL11: INLINE DESK PADS | AM11: INLINE DESK PADS | AN11: INLINE DESK PADS | AO11: 1000 | AP11: 1039 | AQ11: MAY | AR11: MAY | AS11: 0.9844 | AT11: 0.9844 | AU11: 0.92 | AV11: =IFERROR(((AS11-AU11)/AU11),"") -> 0.07 | AW11: 0.92 | AX11: 9.99 | AY11: 9.99 | BA11: 9.99 | BB11: =IFERROR(((AX11-AS11)/AX11),"") -> 0.90146146 | BC11: =IFERROR(((AY11-AU11)/AY11),"") -> 0.90790791 | BF11: 1013 | BG11: 931.96 | BH11: 0.124 | BI11: 28957 | BJ11: 25.603006 | BK11: 8169.3548 | BL11: 81611.855 | BM11: 7515.8065 | BN11: 7.8627092 | BO11: 7.8627092 | BP11: 7862.7092 | BS11: 566 | BT11: 520.72 | BU11: 0.1 | BV11: 3890 | BW11: 5660 | BY11: 5207.2 | BZ11: 4500 | CJ11: =IFERROR(VLOOKUP($E11,[2]ECOM!$A$3:$FC$999999,158,FALSE),0) -> 2024 | CK11: =IFERROR(VLOOKUP($E11,[2]ECOM!$A$3:$FC$999999,159,FALSE),0) -> 2300 | CQ11: 13829.355 | CS11: 12723.006 | CT11: 12362.709 | CU11: 123503.46 | CV11: 12169.851 | CW11: 111333.61
A12: ST240024 | B12: ST240023 | C12: ST240022 | E12: 7714272 | I12: 2 | J12: 5 | K12: 15 | L12: 1 | M12: 1 | N12: 1 | O12: 1 | P12: All Channels | Q12: All Channels | R12: =IF(L12+N12>0,1,0) -> 1 | S12: =IF(M12+O12>0,1,0) -> 1 | T12: KEEP | U12: KEEP | W12: DESK PAD | X12: F,ST2400,DSK PAD 12MNTH,BLK,23 | Z12: DESK PAD | AA12: RY | AB12: SUCCESS | AC12: CORE | AF12: ACCO | AG12: AT-A-GLANCE | AH12: MONTHLY | AI12: STANDARD | AL12: INLINE DESK PADS | AM12: INLINE DESK PADS | AN12: INLINE DESK PADS | AO12: 1000 | AP12: 1039 | AQ12: MAY | AR12: MAY | AS12: 3.5845 | AT12: 3.5845 | AU12: 3.35 | AV12: =IFERROR(((AS12-AU12)/AU12),"") -> 0.07 | AW12: 3.35 | AX12: 13.49 | AY12: 12.49 | BA12: 13.19 | BB12: =IFERROR(((AX12-AS12)/AX12),"") -> 0.73428466 | BC12: =IFERROR(((AY12-AU12)/AY12),"") -> 0.73178543 | BF12: 1904 | BG12: 6378.4 | BH12: 0.124 | BI12: 33688 | BJ12: 29.78603 | BK12: 15354.839 | BL12: 191781.94 | BM12: 51438.71 | BN12: 14.778478 | BO12: 14.778478 | BP12: 14778.478 | BS12: 1161 | BT12: 3889.35 | BU12: 0.1 | BV12: 12303 | BW12: 11610 | BY12: 38893.5 | BZ12: 11000 | CJ12: =IFERROR(VLOOKUP($E12,[2]ECOM!$A$3:$FC$999999,158,FALSE),0) -> 3417.3333 | CK12: =IFERROR(VLOOKUP($E12,[2]ECOM!$A$3:$FC$999999,159,FALSE),0) -> 3883.3333 | CQ12: 26964.839 | CS12: 90332.21 | CT12: 25778.478 | CU12: 347751.67 | CV12: 92402.955 | CW12: 255348.71
A13: SW2300024 | B13: SW2300023 | C13: SW2300022 | E13: 7577033 | I13: 2 | J13: 7 | K13: 20 | L13: 1 | M13: 1 | N13: 1 | O13: 1 | P13: All Channels | Q13: All Channels | R13: =IF(L13+N13>0,1,0) -> 1 | S13: =IF(M13+O13>0,1,0) -> 1 | T13: KEEP | U13: KEEP | W13: DESK PAD | X13: F,SW23000,DSK PAD JUMBO MNTH 2/C,BLK,23 | Z13: DESK PAD | AA13: RY | AB13: TRADITIONAL | AC13: CORE | AF13: ACCO | AG13: AT-A-GLANCE | AH13: MONTHLY | AI13: STANDARD | AL13: INLINE DESK PADS | AM13: INLINE DESK PADS | AN13: INLINE DESK PADS | AO13: 1000 | AP13: 1017 | AQ13: MAY | AR13: MAY | AS13: 12.626 | AT13: 12.626 | AU13: 11.8 | AV13: =IFERROR(((AS13-AU13)/AU13),"") -> 0.07 | AW13: 11.8 | AX13: 35.99 | AY13: 33.49 | BA13: 43.19 | BB13: =IFERROR(((AX13-AS13)/AX13),"") -> 0.64918033 | BC13: =IFERROR(((AY13-AU13)/AY13),"") -> 0.64765602 | BF13: 432 | BG13: 5097.6 | BH13: 0.124 | BI13: 5617 | BJ13: 4.9664014 | BK13: 3483.871 | BL13: 116674.84 | BM13: 41109.677 | BN13: 3.4256352 | BO13: 3.4256352 | BP13: 3425.6352 | BS13: 349 | BT13: 4118.2 | BU13: 0.1 | BV13: 4450 | BW13: 3490 | BY13: 41182 | BZ13: 3900 | CJ13: =IFERROR(VLOOKUP($E13,[2]ECOM!$A$3:$FC$999999,158,FALSE),0) -> 1481.3333 | CK13: =IFERROR(VLOOKUP($E13,[2]ECOM!$A$3:$FC$999999,159,FALSE),0) -> 1683.3333 | CQ13: 6973.871 | CS13: 82291.677 | CT13: 7325.6352 | CU13: 263649.61 | CV13: 92493.47 | CW13: 171156.14
A14: SP24D0024 | B14: SP24D0023 | C14: SP24D0022 | E14: 9269886 | I14: 2 | J14: 7 | K14: 19 | L14: 1 | M14: 1 | N14: 1 | O14: 1 | P14: All Channels | Q14: All Channels | R14: =IF(L14+N14>0,1,0) -> 1 | S14: =IF(M14+O14>0,1,0) -> 1 | T14: KEEP | U14: KEEP | W14: DESK PAD | X14: F,9269886,ZODP DESK PAD,BLK,23 | Z14: DESK PAD | AA14: RY | AB14: THE DESK PAD | AC14: CORE | AF14: ACCO | AG14: PRIVATE BRAND A | AH14: MONTHLY | AI14: STANDARD | AL14: INLINE DESK PADS/STACKOUT | AM14: INLINE DESK PADS/STACKOUT | AN14: INLINE DESK PADS/STACKOUT | AO14: 1000 | AP14: 1039 | AQ14: MAY | AR14: MAY | AS14: 1.498 | AT14: 1.498 | AU14: 1.4 | AV14: =IFERROR(((AS14-AU14)/AU14),"") -> 0.07 | AW14: 1.4 | AX14: 6.99 | AY14: 6.49 | BA14: 6.49 | BB14: =IFERROR(((AX14-AS14)/AX14),"") -> 0.78569385 | BC14: =IFERROR(((AY14-AU14)/AY14),"") -> 0.78428351 | BF14: 14654 | BG14: 20515.6 | BH14: 0.124 | BI14: 531072 | BJ14: 469.55968 | BK14: 118177.42 | BL14: 766971.45 | BM14: 165448.39 | BN14: 113.7415 | BO14: 113.7415 | BP14: 113741.5 | BS14: 33254 | BT14: 46555.6 | BU14: 0.1 | BV14: 498700 | BW14: 332540 | BY14: 465556 | BZ14: 333000 | CJ14: =IFERROR(VLOOKUP($E14,[2]ECOM!$A$3:$FC$999999,158,FALSE),0) -> 51641.333 | CK14: =IFERROR(VLOOKUP($E14,[2]ECOM!$A$3:$FC$999999,159,FALSE),0) -> 58683.333 | CQ14: 450717.42 | CS14: 631004.39 | CT14: 446741.5 | CU14: 3122723.1 | CV14: 669218.77 | CW14: 2453504.3
A15: K10024 | B15: K10023 | C15: K10022 | E15: 6065248 | L15: 1 | M15: 1 | N15: 1 | O15: 1 | P15: All Channels | Q15: All Channels | R15: =IF(L15+N15>0,1,0) -> 1 | S15: =IF(M15+O15>0,1,0) -> 1 | T15: KEEP | U15: KEEP | W15: WALL CALENDAR | X15: F,K100,TODAY IS-WALL,BLK,23 | Z15: WALL CALENDAR | AA15: RY | AB15: TRADITIONAL | AC15: CORE | AF15: ACCO | AG15: AT-A-GLANCE | AH15: DAILY | AI15: SMALL | AL15: INLINE ERASABLES | AM15: INLINE ERASABLES | AN15: INLINE ERASABLES | AO15: 1041 | AP15: 1041 | AQ15: MAY | AR15: MAY | AS15: 15.1084 | AT15: 15.1084 | AU15: 14.12 | AV15: =IFERROR(((AS15-AU15)/AU15),"") -> 0.07 | AW15: 14.12 | AX15: 39.99 | AY15: 36.99 | BA15: 52.49 | BB15: =IFERROR(((AX15-AS15)/AX15),"") -> 0.62219555 | BC15: =IFERROR(((AY15-AU15)/AY15),"") -> 0.61827521 | BF15: 134 | BG15: 1892.08 | BH15: 0.124 | BI15: 1732 | BJ15: 1.4995671 | BK15: 1080.6452 | BL15: 39973.065 | BM15: 15258.71 | BN15: 1.0380837 | BO15: 1.5 | BP15: 1561.5 | BS15: 105 | BT15: 1482.6 | BU15: 0.1 | BV15: 1365 | BW15: 1050 | BY15: 14826 | BZ15: 1100 | CJ15: =IFERROR(VLOOKUP($E15,[2]ECOM!$A$3:$FC$999999,158,FALSE),0) -> 293.33333 | CK15: =IFERROR(VLOOKUP($E15,[2]ECOM!$A$3:$FC$999999,159,FALSE),0) -> 333.33333 | CQ15: 2130.6452 | CS15: 30084.71 | CT15: 2661.5 | CU15: 106433.39 | CV15: 40211.007 | CW15: 66222.378
A16: OD30142824 | B16: OD30142823 | C16: OD30142822 | E16: 4232616 | L16: 1 | M16: 1 | P16: Retail Only BOPIS | Q16: Retail Only BOPIS | R16: =IF(L16+N16>0,1,0) -> 1 | S16: =IF(M16+O16>0,1,0) -> 1 | T16: KEEP | W16: WALL CALENDAR | X16: F,4232616,ZODP WALL CAL YRLY,23 | Z16: WALL CALENDAR | AA16: RY | AB16: TRADITIONAL | AC16: CORE | AD16: TRADITIONAL | AF16: ACCO | AG16: PRIVATE BRAND A | AH16: YEARLY | AI16: MEDIUM | AL16: INLINE ERASABLES | AM16: INLINE ERASABLES | AN16: INLINE ERASABLES | AO16: 1041 | AP16: 1041 | AQ16: MAY | AR16: MAY | AU16: 3.78 | AV16: =IFERROR(((AS16-AU16)/AU16),"") -> -1 | AW16: 3.78 | AY16: 18.99 | BA16: 18.99 | BB16: =IFERROR(((AX16-AS16)/AX16),"") | BC16: =IFERROR(((AY16-AU16)/AY16),"") -> 0.80094787 | BF16: 259 | BG16: 960.22 | BH16: 0.124 | BI16: 3713 | BJ16: 3.2147186 | BK16: 2088.7097 | BL16: 39664.597 | BM16: 7895.3226 | BN16: 2.0064454 | BO16: 3.2 | BP16: 3331.2 | BS16: 129 | BT16: 454.72 | BU16: 0.1 | BW16: 1290 | BY16: 4547.2 | CJ16: =IFERROR(VLOOKUP($E16,[2]ECOM!$A$3:$FC$999999,158,FALSE),0) -> 315.33333 | CK16: =IFERROR(VLOOKUP($E16,[2]ECOM!$A$3:$FC$999999,159,FALSE),0) -> 358.33333 | CQ16: 3378.7097 | CS16: 12442.523 | CT16: 3331.2 | CU16: 0 | CV16: 0 | CW16: 0
A17: PM200S2824 | B17: PM200S2823 | C17: PM200S2822 | E17: 4665731 | L17: 1 | M17: 1 | N17: 1 | O17: 1 | P17: All Channels | Q17: All Channels | R17: =IF(L17+N17>0,1,0) -> 1 | S17: =IF(M17+O17>0,1,0) -> 1 | T17: KEEP | U17: KEEP | W17: ERASABLES | X17: F,PM200S28,AY/RY YRLY ERAS HORZ FLT,23 | Z17: ERASABLES | AA17: AY/RY | AB17: AAG | AC17: CORE | AF17: ACCO | AG17: AT-A-GLANCE | AH17: YEARLY | AI17: STANDARD | AL17: INLINE ERASABLES | AM17: INLINE ERASABLES | AN17: INLINE ERASABLES | AO17: 1041 | AP17: 1041 | AQ17: MAY | AR17: MAY | AS17: 7.9608 | AT17: 7.9608 | AU17: 7.44 | AV17: =IFERROR(((AS17-AU17)/AU17),"") -> 0.07 | AW17: 7.44 | AX17: 32.99 | AY17: 29.99 | BA17: 40.49 | BB17: =IFERROR(((AX17-AS17)/AX17),"") -> 0.75869051 | BC17: =IFERROR(((AY17-AU17)/AY17),"") -> 0.75191731 | BF17: 1768 | BG17: 13153.92 | BH17: 0.124 | BI17: 9129 | BJ17: 7.9038961 | BK17: 14258.065 | BL17: 427599.35 | BM17: 106080 | BN17: 13.696508 | BO17: 9 | BP17: 9369 | BS17: 2240 | BT17: 16665.6 | BU17: 0.3 | BV17: 3735 | BW17: 7466.6667 | BY17: 55552 | BZ17: 4000 | CJ17: =IFERROR(VLOOKUP($E17,[2]ECOM!$A$3:$FC$999999,158,FALSE),0) -> 3351.3333 | CK17: =IFERROR(VLOOKUP($E17,[2]ECOM!$A$3:$FC$999999,159,FALSE),0) -> 3808.3333 | CQ17: 21724.731 | CS17: 161632 | CT17: 13369 | CU17: 441043.31 | CV17: 106427.94 | CW17: 334615.37
A18: PM210S2824 | B18: PM210S2823 | C18: PM210S2822 | E18: 3745510 | L18: 1 | M18: 1 | N18: 1 | O18: 1 | P18: All Channels | Q18: All Channels | R18: =IF(L18+N18>0,1,0) -> 1 | S18: =IF(M18+O18>0,1,0) -> 1 | T18: KEEP | U18: KEEP | W18: ERASABLES | X18: F,PM210S28,AY/RY YRLY ERAS VERT FLT,23 | Z18: ERASABLES | AA18: AY/RY | AB18: AAG | AC18: CORE | AF18: ACCO | AG18: AT-A-GLANCE | AH18: YEARLY | AI18: STANDARD | AL18: INLINE ERASABLES | AM18: INLINE ERASABLES | AN18: INLINE ERASABLES | AO18: 1041 | AP18: 1041 | AQ18: MAY | AR18: MAY | AS18: 7.9608 | AT18: 7.9608 | AU18: 7.44 | AV18: =IFERROR(((AS18-AU18)/AU18),"") -> 0.07 | AW18: 7.44 | AX18: 32.99 | AY18: 29.99 | BA18: 40.49 | BB18: =IFERROR(((AX18-AS18)/AX18),"") -> 0.75869051 | BC18: =IFERROR(((AY18-AU18)/AY18),"") -> 0.75191731 | BF18: 1474 | BG18: 10966.56 | BH18: 0.124 | BI18: 9060 | BJ18: 7.8441558 | BK18: 11887.097 | BL18: 356494.03 | BM18: 88440 | BN18: 11.418921 | BO18: 9 | BP18: 9369 | BS18: 1321 | BT18: 9828.24 | BU18: 0.3 | BV18: 2143 | BW18: 4403.3333 | BY18: 32760.8 | BZ18: 2100 | CJ18: =IFERROR(VLOOKUP($E18,[2]ECOM!$A$3:$FC$999999,158,FALSE),0) -> 2068 | CK18: =IFERROR(VLOOKUP($E18,[2]ECOM!$A$3:$FC$999999,159,FALSE),0) -> 2350 | CQ18: 16290.43 | CS18: 121200.8 | CT18: 11469 | CU18: 378362.31 | CV18: 91302.415 | CW18: 287059.89
A19: PM239B28 | B19: PM239B28 | C19: PM239B28 | D19: 472266 | E19: 472266 | L19: 1 | M19: 1 | P19: Retail Only BOPIS | Q19: Retail Only BOPIS | R19: =IF(L19+N19>0,1,0) -> 1 | S19: =IF(M19+O19>0,1,0) -> 1 | T19: KEEP | W19: ERASABLES | X19: F,ERAS 90/120 FLT (21),UN | Z19: ERASABLES | AA19: UN | AB19: TRADITIONAL | AC19: CORE | AD19: TRADITIONAL | AF19: ACCO | AG19: AT-A-GLANCE | AH19: UNDATED | AI19: STANDARD | AL19: INLINE ERASABLES | AM19: INLINE ERASABLES | AN19: INLINE ERASABLES | AO19: 1041 | AP19: 1041 | AQ19: MAY | AR19: MAY | AS19: 7.5863 | AT19: 7.5863 | AU19: 7.09 | AV19: =IFERROR(((AS19-AU19)/AU19),"") -> 0.07 | AW19: 7.09 | AX19: 32.99 | AY19: 29.99 | BA19: 33.19 | BB19: =IFERROR(((AX19-AS19)/AX19),"") -> 0.77004244 | BC19: =IFERROR(((AY19-AU19)/AY19),"") -> 0.76358786 | BF19: 1841 | BG19: 13255.2 | BH19: 0.3 | BI19: 5989 | BJ19: 5.1852814 | BK19: 6136.6667 | BL19: 184038.63 | BM19: 43508.967 | BN19: 5.8949728 | BO19: 5.8949728 | BP19: 6136.6667 | BS19: 35 | BT19: 252 | BU19: 0.3 | BW19: 116.66667 | BY19: 840 | CJ19: =IFERROR(VLOOKUP($E19,[2]ECOM!$A$3:$FC$999999,158,FALSE),0) -> 183.33333 | CK19: =IFERROR(VLOOKUP($E19,[2]ECOM!$A$3:$FC$999999,159,FALSE),0) -> 208.33333 | CQ19: 6253.3333 | CS19: 44348.967 | CT19: 6136.6667 | CU19: 202448.63 | CV19: 46554.594 | CW19: 155894.04
A20: PM263B28 | B20: PM263B28 | C20: PM263B28 | D20: 472308 | E20: 472308 | L20: 1 | M20: 1 | P20: Retail Only BOPIS | Q20: Retail Only BOPIS | R20: =IF(L20+N20>0,1,0) -> 1 | S20: =IF(M20+O20>0,1,0) -> 1 | T20: KEEP | W20: ERASABLES | X20: F,ERAS 30/60 SML (21),UN | Z20: ERASABLES | AA20: UN | AB20: TRADITIONAL | AC20: CORE | AD20: TRADITIONAL | AF20: ACCO | AG20: AT-A-GLANCE | AH20: UNDATED | AI20: SMALL | AL20: INLINE ERASABLES | AM20: INLINE ERASABLES | AN20: INLINE ERASABLES | AO20: 1041 | AP20: 1041 | AQ20: MAY | AR20: MAY | AS20: 5.7138 | AT20: 5.7138 | AU20: 5.34 | AV20: =IFERROR(((AS20-AU20)/AU20),"") -> 0.07 | AW20: 5.34 | AX20: 23.99 | AY20: 21.99 | BA20: 24.29 | BB20: =IFERROR(((AX20-AS20)/AX20),"") -> 0.76182576 | BC20: =IFERROR(((AY20-AU20)/AY20),"") -> 0.75716235 | BF20: 1941 | BG20: 10520.22 | BH20: 0.3 | BI20: 6402 | BJ20: 5.5428571 | BK20: 6470 | BL20: 142275.3 | BM20: 34549.8 | BN20: 6.2151777 | BO20: 6.2151777 | BP20: 6470 | BS20: 59 | BT20: 319.78 | BU20: 0.3 | BW20: 196.66667 | BY20: 1065.9333 | CJ20: =IFERROR(VLOOKUP($E20,[2]ECOM!$A$3:$FC$999999,158,FALSE),0) -> 190.66667 | CK20: =IFERROR(VLOOKUP($E20,[2]ECOM!$A$3:$FC$999999,159,FALSE),0) -> 216.66667 | CQ20: 6666.6667 | CS20: 35615.733 | CT20: 6470 | CU20: 155215.3 | CV20: 36968.286 | CW20: 118247.01
A21: PM26B2824 | B21: PM26B2823 | C21: PM26B2822 | E21: 9682566 | L21: 1 | M21: 1 | N21: 1 | O21: 1 | P21: All Channels | Q21: All Channels | R21: =IF(L21+N21>0,1,0) -> 1 | S21: =IF(M21+O21>0,1,0) -> 1 | T21: KEEP | U21: KEEP | W21: ERASABLES | X21: F,PM26B28,WALL CAL ERAS YRLY FLT,23 | Z21: ERASABLES | AA21: RY | AB21: TRADITIONAL | AC21: CORE | AF21: ACCO | AG21: AT-A-GLANCE | AH21: YEARLY | AI21: STANDARD | AL21: INLINE ERASABLES | AM21: INLINE ERASABLES | AN21: INLINE ERASABLES | AO21: 1041 | AP21: 1041 | AQ21: MAY | AR21: MAY | AS21: 7.9715 | AT21: 7.9715 | AU21: 7.45 | AV21: =IFERROR(((AS21-AU21)/AU21),"") -> 0.07 | AW21: 7.45 | AX21: 32.99 | AY21: 29.99 | BA21: 39.79 | BB21: =IFERROR(((AX21-AS21)/AX21),"") -> 0.75836617 | BC21: =IFERROR(((AY21-AU21)/AY21),"") -> 0.75158386 | BF21: 699 | BG21: 5207.55 | BH21: 0.124 | BI21: 9618 | BJ21: 8.3272727 | BK21: 5637.0968 | BL21: 169056.53 | BM21: 41996.371 | BN21: 5.4150786 | BO21: 6 | BP21: 6246 | BS21: 1254 | BT21: 9342.3 | BU21: 0.3 | BV21: 2932 | BW21: 4180 | BY21: 31141 | BZ21: 3000 | CJ21: =IFERROR(VLOOKUP($E21,[2]ECOM!$A$3:$FC$999999,158,FALSE),0) -> 3608 | CK21: =IFERROR(VLOOKUP($E21,[2]ECOM!$A$3:$FC$999999,159,FALSE),0) -> 4100 | CQ21: 9817.0968 | CS21: 73137.371 | CT21: 9246 | CU21: 305025.54 | CV21: 73704.489 | CW21: 231321.05
A22: PM326S2824 | B22: PM326S2823 | C22: PM326S2822 | E22: 9957926 | L22: 1 | M22: 1 | N22: 1 | O22: 1 | P22: All Channels | Q22: All Channels | R22: =IF(L22+N22>0,1,0) -> 1 | S22: =IF(M22+O22>0,1,0) -> 1 | T22: KEEP | U22: KEEP | W22: ERASABLES | X22: F,PM326S28,ERAS AY/RY JUMBO BAG,23 | Z22: ERASABLES | AA22: AY/RY | AB22: JUMBO | AC22: CORE | AF22: ACCO | AG22: AT-A-GLANCE | AH22: YEARLY | AI22: LARGE | AL22: INLINE ERASABLES | AM22: INLINE ERASABLES | AN22: INLINE ERASABLES | AO22: 1041 | AP22: 1041 | AQ22: MAY | AR22: MAY | AS22: 11.449 | AT22: 11.449 | AU22: 10.7 | AV22: =IFERROR(((AS22-AU22)/AU22),"") -> 0.07 | AW22: 10.7 | AX22: 42.99 | AY22: 39.99 | BA22: 58.09 | BB22: =IFERROR(((AX22-AS22)/AX22),"") -> 0.73368225 | BC22: =IFERROR(((AY22-AU22)/AY22),"") -> 0.73243311 | BF22: 1246 | BG22: 15188.74 | BH22: 0.124 | BI22: 9627 | BJ22: 8.3350649 | BK22: 10048.387 | BL22: 401835 | BM22: 107517.74 | BN22: 9.6526293 | BO22: 9.6526293 | BP22: 10048.387 | BS22: 1806 | BT22: 22015.14 | BU22: 0.3 | BV22: 7660 | BW22: 6020 | BY22: 73383.8 | BZ22: 7600 | CJ22: =IFERROR(VLOOKUP($E22,[2]ECOM!$A$3:$FC$999999,158,FALSE),0) -> 4752 | CK22: =IFERROR(VLOOKUP($E22,[2]ECOM!$A$3:$FC$999999,159,FALSE),0) -> 5400 | CQ22: 16068.387 | CS22: 180901.54 | CT22: 17648.387 | CU22: 758704.16 | CV22: 202056.38 | CW22: 556647.78
A23: PM330B2824 | B23: PM330B2823 | C23: PM330B2822 | E23: 5613728 | L23: 1 | M23: 1 | N23: 1 | O23: 1 | P23: All Channels | Q23: All Channels | R23: =IF(L23+N23>0,1,0) -> 1 | S23: =IF(M23+O23>0,1,0) -> 1 | T23: KEEP | U23: KEEP | W23: ERASABLES | X23: F,PM330B28,WALL CAL YRLY/YRLY MINI,23 | Z23: ERASABLES | AA23: RY | AB23: TRADITIONAL | AC23: CORE | AF23: ACCO | AG23: AT-A-GLANCE | AH23: YEARLY | AI23: SMALL | AL23: INLINE ERASABLES | AM23: INLINE ERASABLES | AN23: INLINE ERASABLES | AO23: 1041 | AP23: 1041 | AQ23: MAY | AR23: MAY | AS23: 3.3063 | AT23: 3.3063 | AU23: 3.09 | AV23: =IFERROR(((AS23-AU23)/AU23),"") -> 0.07 | AW23: 3.09 | AX23: 19.99 | AY23: 17.99 | BA23: 16.89 | BB23: =IFERROR(((AX23-AS23)/AX23),"") -> 0.8346023 | BC23: =IFERROR(((AY23-AU23)/AY23),"") -> 0.82823791 | BF23: 638 | BG23: 1971.42 | BH23: 0.124 | BI23: 5673 | BJ23: 4.9116883 | BK23: 5145.1613 | BL23: 92561.452 | BM23: 15898.548 | BN23: 4.9425181 | BO23: 4.9425181 | BP23: 5145.1613 | BS23: 914 | BT23: 2824.26 | BU23: 0.3 | BV23: 2115 | BW23: 3046.6667 | BY23: 9414.2 | BZ23: 2100 | CJ23: =IFERROR(VLOOKUP($E23,[2]ECOM!$A$3:$FC$999999,158,FALSE),0) -> 5412 | CK23: =IFERROR(VLOOKUP($E23,[2]ECOM!$A$3:$FC$999999,159,FALSE),0) -> 6150 | CQ23: 8191.828 | CS23: 25312.748 | CT23: 7245.1613 | CU23: 144830.77 | CV23: 23954.677 | CW23: 120876.1
A24: PM530B28 | B24: PM530B28 | C24: PM530B28 | D24: 294215 | E24: 294215 | L24: 1 | M24: 1 | P24: Retail Only BOPIS | Q24: Retail Only BOPIS | R24: =IF(L24+N24>0,1,0) -> 1 | S24: =IF(M24+O24>0,1,0) -> 1 | T24: KEEP | W24: ERASABLES | X24: F,PM530B28,QN 30DAY BULK,UN | Z24: ERASABLES | AA24: UN | AB24: QUICKNOTES | AC24: CORE | AD24: TRADITIONAL | AF24: ACCO | AG24: AT-A-GLANCE | AH24: UNDATED | AI24: STANDARD | AL24: INLINE ERASABLES | AM24: INLINE ERASABLES | AN24: INLINE ERASABLES | AO24: 1041 | AP24: 1041 | AQ24: MAY | AR24: MAY | AS24: 7.99 | AT24: 7.99 | AU24: 7.47 | AV24: =IFERROR(((AS24-AU24)/AU24),"") -> 0.06961178 | AW24: 7.47 | AX24: 32.99 | AY24: 29.99 | BA24: 33.49 | BB24: =IFERROR(((AX24-AS24)/AX24),"") -> 0.7578054 | BC24: =IFERROR(((AY24-AU24)/AY24),"") -> 0.75091697 | BF24: 2867 | BG24: 21731.86 | BH24: 0.124 | BI24: 9445 | BJ24: 8.1774892 | BK24: 23120.968 | BL24: 693397.82 | BM24: 172713.63 | BN24: 22.210344 | BO24: 9 | BP24: 9369 | BS24: 43 | BT24: 325.94 | BU24: 0.3 | BW24: 143.33333 | BY24: 1086.4667 | CJ24: =IFERROR(VLOOKUP($E24,[2]ECOM!$A$3:$FC$999999,158,FALSE),0) -> 337.33333 | CK24: =IFERROR(VLOOKUP($E24,[2]ECOM!$A$3:$FC$999999,159,FALSE),0) -> 383.33333 | CQ24: 23264.301 | CS24: 173800.1 | CT24: 9369 | CU24: 309083.31 | CV24: 74858.31 | CW24: 234225
A25: PM550B2824 | B25: PM550B2823 | C25: PM550B2822 | E25: 9546488 | L25: 1 | M25: 1 | N25: 1 | O25: 1 | P25: All Channels | Q25: All Channels | R25: =IF(L25+N25>0,1,0) -> 1 | S25: =IF(M25+O25>0,1,0) -> 1 | T25: KEEP | U25: KEEP | W25: ERASABLES | X25: F,PM550B28,QN WALL CAL ERAS 2/S,23 | Z25: ERASABLES | AA25: RY | AB25: QUICKNOTES | AC25: CORE | AF25: ACCO | AG25: AT-A-GLANCE | AH25: YEARLY | AI25: SMALL | AL25: INLINE ERASABLES | AM25: INLINE ERASABLES | AN25: INLINE ERASABLES | AO25: 1041 | AP25: 1041 | AQ25: MAY | AR25: MAY | AS25: 3.4347 | AT25: 3.4347 | AU25: 3.21 | AV25: =IFERROR(((AS25-AU25)/AU25),"") -> 0.07 | AW25: 3.21 | AX25: 19.99 | AY25: 17.99 | BA25: 18.89 | BB25: =IFERROR(((AX25-AS25)/AX25),"") -> 0.82817909 | BC25: =IFERROR(((AY25-AU25)/AY25),"") -> 0.82156754 | BF25: 604 | BG25: 1938.84 | BH25: 0.124 | BI25: 4363 | BJ25: 3.7774892 | BK25: 4870.9677 | BL25: 87628.71 | BM25: 15635.806 | BN25: 4.6791237 | BO25: 4.6791237 | BP25: 4870.9677 | BS25: 353 | BT25: 1133.13 | BU25: 0.3 | BV25: 1346 | BW25: 1176.6667 | BY25: 3777.1 | BZ25: 1300 | CJ25: =IFERROR(VLOOKUP($E25,[2]ECOM!$A$3:$FC$999999,158,FALSE),0) -> 1664.6667 | CK25: =IFERROR(VLOOKUP($E25,[2]ECOM!$A$3:$FC$999999,159,FALSE),0) -> 1891.6667 | CQ25: 6047.6344 | CS25: 19412.906 | CT25: 6170.9677 | CU25: 123357.65 | CV25: 21195.423 | CW25: 102162.22
A26: AW502028 | B26: AW502028 | C26: AW502028 | D26: 644973 | E26: 644973 | L26: 1 | M26: 1 | P26: Retail Only BOPIS | Q26: Retail Only BOPIS | R26: =IF(L26+N26>0,1,0) -> 1 | S26: =IF(M26+O26>0,1,0) -> 1 | T26: KEEP | V26: Non Dept 4 - item will roll unless otherwise directed Marnie does not forecast | W26: ERASABLES | X26: F,AW502028,DRYERAS MNTH SRFC18X24(19),UN | Z26: ERASABLES | AA26: UN | AB26: WALLMATES | AC26: CORE | AD26: TRADITIONAL | AF26: ACCO | AG26: AT-A-GLANCE | AH26: UNDATED | AI26: SMALL | AL26: INLINE ERASABLES | AM26: INLINE ERASABLES | AN26: INLINE ERASABLES | AO26: 1041 | AP26: 1041 | AQ26: MAY | AR26: MAY | AS26: 8.3032 | AT26: 8.3032 | AU26: 7.76 | AV26: =IFERROR(((AS26-AU26)/AU26),"") -> 0.07 | AW26: 7.76 | AX26: 23.99 | AY26: 22.99 | BA26: 29.29 | BB26: =IFERROR(((AX26-AS26)/AX26),"") -> 0.65388912 | BC26: =IFERROR(((AY26-AU26)/AY26),"") -> 0.66246194 | BF26: 2867 | BG26: 22247.92 | BH26: 0.3 | BI26: 8917 | BJ26: 7.7203463 | BK26: 9556.6667 | BL26: 219707.77 | BM26: 74159.733 | BN26: 9.1802754 | BO26: 9.1802754 | BP26: 9556.6667 | BS26: 1026 | BT26: 7961.76 | BU26: 0.3 | BW26: 3420 | BY26: 26539.2 | CJ26: =IFERROR(VLOOKUP($E26,[2]ECOM!$A$3:$FC$999999,158,FALSE),0) -> 0 | CK26: =IFERROR(VLOOKUP($E26,[2]ECOM!$A$3:$FC$999999,159,FALSE),0) -> 0 | CQ26: 12976.667 | CS26: 100698.93 | CT26: 9556.6667 | CU26: 229264.43 | CV26: 79350.915 | CW26: 149913.52
A27: 1664F-550SB-24 | L27: 1 | P27: Retail Only BOPIS | R27: =IF(L27+N27>0,1,0) -> 1 | S27: =IF(M27+O27>0,1,0) -> 0 | T27: ADD | W27: ERASABLES | X27: BADGE AY/RY ERASABLE FLORAL | Z27: ERASABLES | AA27: AY/RY | AB27: BADGE | AC27: FASHION | AF27: ACCO | AG27: AT-A-GLANCE | AH27: YEARLY | AI27: STANDARD | AL27: INLINE ERASABLES | AN27: INLINE ERASABLES | AO27: 1041 | AQ27: MAY | AS27: 7.44 | AT27: 7.44 | AV27: =IFERROR(((AS27-AU27)/AU27),"") | AX27: 29.99 | BB27: =IFERROR(((AX27-AS27)/AX27),"") -> 0.75191731 | BC27: =IFERROR(((AY27-AU27)/AY27),"") | BO27: 4 | BP27: 4164 | CJ27: =IFERROR(VLOOKUP($E27,[2]ECOM!$A$3:$FC$999999,158,FALSE),0) -> 0 | CK27: =IFERROR(VLOOKUP($E27,[2]ECOM!$A$3:$FC$999999,159,FALSE),0) -> 0 | CQ27: 0 | CS27: 0 | CT27: 4164 | CU27: 124878.36 | CV27: 30980.16 | CW27: 93898.2
A28: 1664W-550SB-24 | L28: 1 | P28: Retail Only BOPIS | R28: =IF(L28+N28>0,1,0) -> 1 | S28: =IF(M28+O28>0,1,0) -> 0 | T28: ADD | W28: ERASABLES | X28: BADGE AY/RY ERASABLE WINDOW PANE | Z28: ERASABLES | AA28: AY/RY | AB28: BADGE | AC28: FASHION | AF28: ACCO | AG28: AT-A-GLANCE | AH28: YEARLY | AI28: STANDARD | AL28: INLINE ERASABLES | AN28: INLINE ERASABLES | AO28: 1041 | AQ28: MAY | AS28: 7.44 | AT28: 7.44 | AV28: =IFERROR(((AS28-AU28)/AU28),"") | AX28: 29.99 | BB28: =IFERROR(((AX28-AS28)/AX28),"") -> 0.75191731 | BC28: =IFERROR(((AY28-AU28)/AY28),"") | BO28: 4 | BP28: 4164 | CJ28: =IFERROR(VLOOKUP($E28,[2]ECOM!$A$3:$FC$999999,158,FALSE),0) -> 0 | CK28: =IFERROR(VLOOKUP($E28,[2]ECOM!$A$3:$FC$999999,159,FALSE),0) -> 0 | CQ28: 0 | CS28: 0 | CT28: 4164 | CU28: 124878.36 | CV28: 30980.16 | CW28: 93898.2
A29: 1665-550SB-24 | L29: 1 | P29: Retail Only BOPIS | R29: =IF(L29+N29>0,1,0) -> 1 | S29: =IF(M29+O29>0,1,0) -> 0 | T29: ADD | W29: ERASABLES | X29: MAEVE AY/RY ERASABLE | Z29: ERASABLES | AA29: AY/RY | AB29: MAEVE | AC29: FASHION | AF29: ACCO | AG29: Cambridge | AH29: YEARLY | AI29: STANDARD | AL29: INLINE ERASABLES | AN29: INLINE ERASABLES | AO29: 1041 | AQ29: MAY | AS29: 7.44 | AT29: 7.44 | AV29: =IFERROR(((AS29-AU29)/AU29),"") | AX29: 29.99 | BB29: =IFERROR(((AX29-AS29)/AX29),"") -> 0.75191731 | BC29: =IFERROR(((AY29-AU29)/AY29),"") | BO29: 4 | BP29: 4164 | CJ29: =IFERROR(VLOOKUP($E29,[2]ECOM!$A$3:$FC$999999,158,FALSE),0) -> 0 | CK29: =IFERROR(VLOOKUP($E29,[2]ECOM!$A$3:$FC$999999,159,FALSE),0) -> 0 | CQ29: 0 | CS29: 0 | CT29: 4164 | CU29: 124878.36 | CV29: 30980.16 | CW29: 93898.2
A30: 1668-550SB-24 | L30: 1 | P30: Retail Only BOPIS | R30: =IF(L30+N30>0,1,0) -> 1 | S30: =IF(M30+O30>0,1,0) -> 0 | T30: ADD | W30: ERASABLES | X30: PIPPA AY/RY ERASABLE | Z30: ERASABLES | AA30: AY/RY | AB30: PIPPA | AC30: FASHION | AF30: ACCO | AG30: Cambridge | AH30: YEARLY | AI30: STANDARD | AL30: INLINE ERASABLES | AN30: INLINE ERASABLES | AO30: 1041 | AQ30: MAY | AS30: 7.44 | AT30: 7.44 | AV30: =IFERROR(((AS30-AU30)/AU30),"") | AX30: 29.99 | BB30: =IFERROR(((AX30-AS30)/AX30),"") -> 0.75191731 | BC30: =IFERROR(((AY30-AU30)/AY30),"") | BO30: 4 | BP30: 4164 | CJ30: =IFERROR(VLOOKUP($E30,[2]ECOM!$A$3:$FC$999999,158,FALSE),0) -> 0 | CK30: =IFERROR(VLOOKUP($E30,[2]ECOM!$A$3:$FC$999999,159,FALSE),0) -> 0 | CQ30: 0 | CS30: 0 | CT30: 4164 | CU30: 124878.36 | CV30: 30980.16 | CW30: 93898.2
A31: 1670-550SB-24 | L31: 1 | P31: Retail Only BOPIS | R31: =IF(L31+N31>0,1,0) -> 1 | S31: =IF(M31+O31>0,1,0) -> 0 | T31: ADD | W31: ERASABLES | X31: RAE AY/RY ERASABLE | Z31: ERASABLES | AA31: AY/RY | AB31: RAE | AC31: FASHION | AF31: ACCO | AG31: Cambridge | AH31: YEARLY | AI31: STANDARD | AL31: INLINE ERASABLES | AN31: INLINE ERASABLES | AO31: 1041 | AQ31: MAY | AS31: 7.44 | AT31: 7.44 | AV31: =IFERROR(((AS31-AU31)/AU31),"") | AX31: 29.99 | BB31: =IFERROR(((AX31-AS31)/AX31),"") -> 0.75191731 | BC31: =IFERROR(((AY31-AU31)/AY31),"") | BO31: 4 | BP31: 4164 | CJ31: =IFERROR(VLOOKUP($E31,[2]ECOM!$A$3:$FC$999999,158,FALSE),0) -> 0 | CK31: =IFERROR(VLOOKUP($E31,[2]ECOM!$A$3:$FC$999999,159,FALSE),0) -> 0 | CQ31: 0 | CS31: 0 | CT31: 4164 | CU31: 124878.36 | CV31: 30980.16 | CW31: 93898.2
A32: 1099-905-27-24 | L32: 1 | N32: 1 | P32: All Channels | R32: =IF(L32+N32>0,1,0) -> 1 | S32: =IF(M32+O32>0,1,0) -> 0 | T32: ADD | U32: ADD | W32: APPT. BOOKS/PLANNERS | X32: HARMONY LG WM POLY PINK | Z32: WEEKLY APPOINTMENT BOOK | AA32: RY | AB32: HARMONY | AC32: FASHION | AE32: POLY | AF32: ACCO | AG32: AT-A-GLANCE | AH32: WEEKLY/MONTHLY | AI32: LARGE | AL32: INLINE FASHION | AN32: INLINE FASHION | AO32: 1000 | AQ32: MAY | AS32: 11.98 | AT32: 11.98 | AV32: =IFERROR(((AS32-AU32)/AU32),"") | AX32: 26.99 | BB32: =IFERROR(((AX32-AS32)/AX32),"") -> 0.5561319 | BO32: 3.2 | BP32: 3200 | BZ32: 1000 | CJ32: =IFERROR(VLOOKUP($E32,[2]ECOM!$A$3:$FC$999999,158,FALSE),0) -> 0 | CK32: =IFERROR(VLOOKUP($E32,[2]ECOM!$A$3:$FC$999999,159,FALSE),0) -> 0 | CQ32: 0 | CS32: 0 | CT32: 4200 | CU32: 113358 | CV32: 50316 | CW32: 63042
A33: 1099-805-27-24 | L33: 1 | P33: Retail Only BOPIS | R33: =IF(L33+N33>0,1,0) -> 1 | S33: =IF(M33+O33>0,1,0) -> 0 | T33: ADD | W33: APPT. BOOKS/PLANNERS | X33: HARMONY MED WM POLY PINK | Z33: WEEKLY APPOINTMENT BOOK | AA33: RY | AB33: HARMONY | AC33: FASHION | AE33: POLY | AF33: ACCO | AG33: AT-A-GLANCE | AH33: WEEKLY/MONTHLY | AI33: MEDIUM | AL33: INLINE FASHION | AN33: INLINE FASHION | AO33: 1000 | AQ33: MAY | AS33: 10.77 | AT33: 10.77 | AV33: =IFERROR(((AS33-AU33)/AU33),"") | AX33: 24.99 | BB33: =IFERROR(((AX33-AS33)/AX33),"") -> 0.56902761 | BO33: 4 | BP33: 4000 | CJ33: =IFERROR(VLOOKUP($E33,[2]ECOM!$A$3:$FC$999999,158,FALSE),0) -> 0 | CK33: =IFERROR(VLOOKUP($E33,[2]ECOM!$A$3:$FC$999999,159,FALSE),0) -> 0 | CQ33: 0 | CS33: 0 | CT33: 4000 | CU33: 99960 | CV33: 43080 | CW33: 56880
A34: 1099-905-20-24 | L34: 1 | N34: 1 | P34: All Channels | R34: =IF(L34+N34>0,1,0) -> 1 | S34: =IF(M34+O34>0,1,0) -> 0 | T34: ADD | U34: ADD | W34: APPT. BOOKS/PLANNERS | X34: HARMONY LG WM POLY BLUE | Z34: WEEKLY APPOINTMENT BOOK | AA34: RY | AB34: HARMONY | AC34: FASHION | AE34: POLY | AF34: ACCO | AG34: AT-A-GLANCE | AH34: WEEKLY/MONTHLY | AI34: LARGE | AL34: INLINE FASHION | AN34: INLINE FASHION | AO34: 1000 | AQ34: MAY | AS34: 11.98 | AT34: 11.98 | AV34: =IFERROR(((AS34-AU34)/AU34),"") | AX34: 26.99 | BB34: =IFERROR(((AX34-AS34)/AX34),"") -> 0.5561319 | BO34: 3.2 | BP34: 3200 | BZ34: 1000 | CJ34: =IFERROR(VLOOKUP($E34,[2]ECOM!$A$3:$FC$999999,158,FALSE),0) -> 0 | CK34: =IFERROR(VLOOKUP($E34,[2]ECOM!$A$3:$FC$999999,159,FALSE),0) -> 0 | CQ34: 0 | CS34: 0 | CT34: 4200 | CU34: 113358 | CV34: 50316 | CW34: 63042
A35: 1099-805-20-24 | L35: 1 | N35: 1 | P35: All Channels | R35: =IF(L35+N35>0,1,0) -> 1 | S35: =IF(M35+O35>0,1,0) -> 0 | T35: ADD | U35: ADD | W35: APPT. BOOKS/PLANNERS | X35: HARMONY MED WM POLY BLUE | Z35: WEEKLY APPOINTMENT BOOK | AA35: RY | AB35: HARMONY | AC35: FASHION | AE35: POLY | AF35: ACCO | AG35: AT-A-GLANCE | AH35: WEEKLY/MONTHLY | AI35: MEDIUM | AL35: INLINE FASHION | AN35: INLINE FASHION | AO35: 1000 | AQ35: MAY | AS35: 10.77 | AT35: 10.77 | AV35: =IFERROR(((AS35-AU35)/AU35),"") | AX35: 24.99 | BB35: =IFERROR(((AX35-AS35)/AX35),"") -> 0.56902761 | BO35: 4 | BP35: 4000 | BZ35: 900 | CJ35: =IFERROR(VLOOKUP($E35,[2]ECOM!$A$3:$FC$999999,158,FALSE),0) -> 0 | CK35: =IFERROR(VLOOKUP($E35,[2]ECOM!$A$3:$FC$999999,159,FALSE),0) -> 0 | CQ35: 0 | CS35: 0 | CT35: 4900 | CU35: 122451 | CV35: 52773 | CW35: 69678
A36: EL18-905-24 | L36: 1 | N36: 1 | P36: All Channels | R36: =IF(L36+N36>0,1,0) -> 1 | S36: =IF(M36+O36>0,1,0) -> 0 | T36: ADD | U36: ADD | W36: APPT. BOOKS/PLANNERS | X36: EMILY LEY LG WM PRINTED POLY LILAC FLORAL | Z36: WEEKLY APPOINTMENT BOOK | AA36: RY | AB36: EMILY LEY | AC36: FASHION | AE36: POLY | AF36: ACCO | AG36: AT-A-GLANCE | AH36: WEEKLY/MONTHLY | AI36: LARGE | AL36: INLINE FASHION | AN36: INLINE FASHION | AO36: 1000 | AQ36: MAY | AS36: 13.46 | AT36: 13.46 | AV36: =IFERROR(((AS36-AU36)/AU36),"") | AX36: 30.99 | BB36: =IFERROR(((AX36-AS36)/AX36),"") -> 0.56566634 | BO36: 3.4 | BP36: 3400 | BZ36: 1000 | CJ36: =IFERROR(VLOOKUP($E36,[2]ECOM!$A$3:$FC$999999,158,FALSE),0) -> 0 | CK36: =IFERROR(VLOOKUP($E36,[2]ECOM!$A$3:$FC$999999,159,FALSE),0) -> 0 | CQ36: 0 | CS36: 0 | CT36: 4400 | CU36: 136356 | CV36: 59224 | CW36: 77132
A37: EL18-200-24 | L37: 1 | N37: 1 | P37: All Channels | R37: =IF(L37+N37>0,1,0) -> 1 | S37: =IF(M37+O37>0,1,0) -> 0 | T37: ADD | U37: ADD | W37: APPT. BOOKS/PLANNERS | X37: EMILY LEY SM WM PRINTED POLY LILAC FLORAL | Z37: WEEKLY APPOINTMENT BOOK | AA37: RY | AB37: EMILY LEY | AC37: FASHION | AE37: POLY | AF37: ACCO | AG37: AT-A-GLANCE | AH37: WEEKLY/MONTHLY | AI37: SMALL | AL37: INLINE FASHION | AN37: INLINE FASHION | AO37: 1000 | AQ37: MAY | AS37: 9.2 | AT37: 9.2 | AV37: =IFERROR(((AS37-AU37)/AU37),"") | AX37: 20.99 | BB37: =IFERROR(((AX37-AS37)/AX37),"") -> 0.56169605 | BO37: 3.2 | BP37: 3200 | BZ37: 700 | CJ37: =IFERROR(VLOOKUP($E37,[2]ECOM!$A$3:$FC$999999,158,FALSE),0) -> 0 | CK37: =IFERROR(VLOOKUP($E37,[2]ECOM!$A$3:$FC$999999,159,FALSE),0) -> 0 | CQ37: 0 | CS37: 0 | CT37: 3900 | CU37: 81861 | CV37: 35880 | CW37: 45981
A38: EL19-900-24 | L38: 1 | N38: 1 | P38: All Channels | R38: =IF(L38+N38>0,1,0) -> 1 | S38: =IF(M38+O38>0,1,0) -> 0 | T38: ADD | U38: ADD | W38: APPT. BOOKS/PLANNERS | X38: EMILY LEY LG M FROSTED POLY CREAM BLOSSOMS | Z38: MONTHLY APPOINTMET BOOK | AA38: RY | AB38: EMILY LEY | AC38: FASHION | AE38: POLY | AF38: ACCO | AG38: AT-A-GLANCE | AH38: MONTHLY | AI38: LARGE | AL38: INLINE FASHION | AN38: INLINE FASHION | AO38: 1000 | AQ38: MAY | AS38: 9.25 | AT38: 9.25 | AV38: =IFERROR(((AS38-AU38)/AU38),"") | AX38: 20.99 | BB38: =IFERROR(((AX38-AS38)/AX38),"") -> 0.55931396 | BO38: 3 | BP38: 3000 | BZ38: 1000 | CJ38: =IFERROR(VLOOKUP($E38,[2]ECOM!$A$3:$FC$999999,158,FALSE),0) -> 0 | CK38: =IFERROR(VLOOKUP($E38,[2]ECOM!$A$3:$FC$999999,159,FALSE),0) -> 0 | CQ38: 0 | CS38: 0 | CT38: 4000 | CU38: 83960 | CV38: 37000 | CW38: 46960
A39: EL19-200-24 | L39: 1 | N39: 1 | P39: All Channels | R39: =IF(L39+N39>0,1,0) -> 1 | S39: =IF(M39+O39>0,1,0) -> 0 | T39: ADD | U39: ADD | W39: APPT. BOOKS/PLANNERS | X39: EMILY LEY SM WM FROSTED POLY CREAM BLOSSOMS | Z39: WEEKLY APPOINTMENT BOOK | AA39: RY | AB39: EMILY LEY | AC39: FASHION | AE39: POLY | AF39: ACCO | AG39: AT-A-GLANCE | AH39: WEEKLY/MONTHLY | AI39: SMALL | AL39: INLINE FASHION | AN39: INLINE FASHION | AO39: 1000 | AQ39: MAY | AS39: 9.2 | AT39: 9.2 | AV39: =IFERROR(((AS39-AU39)/AU39),"") | AX39: 20.99 | BB39: =IFERROR(((AX39-AS39)/AX39),"") -> 0.56169605 | BO39: 3.2 | BP39: 3200 | BZ39: 700 | CJ39: =IFERROR(VLOOKUP($E39,[2]ECOM!$A$3:$FC$999999,158,FALSE),0) -> 0 | CK39: =IFERROR(VLOOKUP($E39,[2]ECOM!$A$3:$FC$999999,159,FALSE),0) -> 0 | CQ39: 0 | CS39: 0 | CT39: 3900 | CU39: 81861 | CV39: 35880 | CW39: 45981
A40: EL16-905-24 | L40: 1 | N40: 1 | P40: All Channels | R40: =IF(L40+N40>0,1,0) -> 1 | S40: =IF(M40+O40>0,1,0) -> 0 | T40: ADD | U40: ADD | W40: APPT. BOOKS/PLANNERS | X40: EMILY LEY LG WM PRINTED POLY HAPPY STRIPE | Z40: WEEKLY APPOINTMENT BOOK | AA40: RY | AB40: EMILY LEY | AC40: FASHION | AE40: POLY | AF40: ACCO | AG40: AT-A-GLANCE | AH40: WEEKLY/MONTHLY | AI40: LARGE | AL40: INLINE FASHION | AN40: INLINE FASHION | AO40: 1000 | AQ40: MAY | AS40: 13.46 | AT40: 13.46 | AV40: =IFERROR(((AS40-AU40)/AU40),"") | AX40: 30.99 | BB40: =IFERROR(((AX40-AS40)/AX40),"") -> 0.56566634 | BO40: 5.8 | BP40: 5800 | BZ40: 3000 | CJ40: =IFERROR(VLOOKUP($E40,[2]ECOM!$A$3:$FC$999999,158,FALSE),0) -> 0 | CK40: =IFERROR(VLOOKUP($E40,[2]ECOM!$A$3:$FC$999999,159,FALSE),0) -> 0 | CQ40: 0 | CS40: 0 | CT40: 8800 | CU40: 272712 | CV40: 118448 | CW40: 154264
...

Sheet RY
C1: TY SKU | D1: LY SKU | E1: BSD STATUS
A2: 24e VPN | B2: 23e VPN | C2: 2024 SKU | D2: 2023 SKU | E2: BSD STATUS | F2: PRODUCT HIERARCHY 2 | G2: Class | H2: Subclass | I2: SAP DESCRIPTION | J2: SUB CLASS | K2: DATE CODE (RY, AY, UN) | L2: COLLECTION | M2: FASHION CONTINUUM | N2: FORMAT | O2: PAGE SIZE | P2: BRAND | Q2: VENDOR
A3: 144062 | C3: 4850656 | E3: RETAIL ONLY N/A | F3: APPT. BOOKS/PLANNERS | G3: 422 DATED BOOKS/REFILLS | H3: 27 APPT BOOKS/PLANNERS | I3: Planning Calendar BS Modesto/Solid Purple PP 8.5x11 RY24 Wkly/Mthly Safety Wirebound - | J3: WEEKLY APPOINTMENT BOOK | K3: RY | L3: Modesto/Purple | M3: FASHION | N3: WEEKLY/MONTHLY | O3: LARGE | P3: BLUESKY | Q3: BLUE SKY COLOR OF IMAGINATION
A4: 142989 | C4: 5103060 | E4: RETAIL ONLY N/A | F4: APPT. BOOKS/PLANNERS | G4: 422 DATED BOOKS/REFILLS | H4: 27 APPT BOOKS/PLANNERS | I4: Planning Calendar Navy Blue/Enterprise PP 8.5x11 RY24 Wkly/Mthly Safety Wirebound - | J4: WEEKLY APPOINTMENT BOOK | K4: RY | L4: Navy Blue/Enterprise | M4: FASHION | N4: WEEKLY/MONTHLY | O4: LARGE | P4: BLUESKY | Q4: BLUE SKY COLOR OF IMAGINATION
A5: 143939 | C5: 5170401 | E5: RETAIL ONLY N/A | F5: APPT. BOOKS/PLANNERS | G5: 422 DATED BOOKS/REFILLS | H5: 27 APPT BOOKS/PLANNERS | I5: Sustainability Planning Calendar BSS Dark Garden Textured Folded Artcard 8.5x11 RY24 Wkly/Mthly Safety Wirebound - | J5: WEEKLY APPOINTMENT BOOK | K5: RY | L5: Dark Garden | M5: FASHION | N5: WEEKLY/MONTHLY | O5: POCKET | P5: BLUESKY | Q5: BLUE SKY COLOR OF IMAGINATION
A6: 143957 | C6: 5272603 | E6: RETAIL ONLY N/A | F6: APPT. BOOKS/PLANNERS | G6: 422 DATED BOOKS/REFILLS | H6: 27 APPT BOOKS/PLANNERS | I6: Planning Calendar BS Ashlyn Navy PP 8.5x11 RY24 Wkly/Mthly Safety Wirebound - | J6: WEEKLY APPOINTMENT BOOK | K6: RY | L6: Ashlyn Navy | M6: FASHION | N6: WEEKLY/MONTHLY | O6: LARGE | P6: BLUESKY | Q6: BLUE SKY COLOR OF IMAGINATION
A7: 143940 | C7: 5572058 | E7: RETAIL ONLY N/A | F7: APPT. BOOKS/PLANNERS | G7: 422 DATED BOOKS/REFILLS | H7: 27 APPT BOOKS/PLANNERS | I7: Sustainability Planning Calendar BSS Dark Garden Textured Folded Artcard 5x8 RY24 Wkly/Mthly Safety Wirebound - | J7: WEEKLY APPOINTMENT BOOK | K7: RY | L7: Dark Garden | M7: FASHION | N7: WEEKLY/MONTHLY | O7: POCKET | P7: BLUESKY | Q7: BLUE SKY COLOR OF IMAGINATION
A8: 142878 | C8: 5646875 | E8: RETAIL ONLY N/A | F8: APPT. BOOKS/PLANNERS | G8: 422 DATED BOOKS/REFILLS | H8: 27 APPT BOOKS/PLANNERS | I8: inkWELL Press Planning Calendar IWP Tavi CYO 5x8 RY24 Wkly/Mthly Safety Wirebound - | J8: WEEKLY APPOINTMENT BOOK | K8: RY | L8: Tavi | M8: FASHION | N8: WEEKLY/MONTHLY | O8: SMALL | P8: BLUESKY | Q8: BLUE SKY COLOR OF IMAGINATION
A9: 144076 | C9: 5736374 | E9: RETAIL ONLY N/A | F9: WALL CALENDAR | G9: 683 CALENDARS | H9: 1388 WALL CALENDARS | I9: Wall Calendar BS Tula - 15x12 RY24 Monthly Safety Wirebound - | J9: Monthly | K9: RY | L9: tula | M9: FASHION | N9: MONTHLY | O9: MEDIUM | P9: BLUESKY | Q9: BLUE SKY COLOR OF IMAGINATION
A10: 146581 | C10: 5960704 | E10: RETAIL ONLY N/A | F10: APPT. BOOKS/PLANNERS | G10: 422 DATED BOOKS/REFILLS | H10: 27 APPT BOOKS/PLANNERS | I10: Sustainability Planning Calendar BSS Branches Pink Textured Folded Artcard 3*6x8 RY24 Wkly/Mthly Safety Wirebound - | J10: WEEKLY APPOINTMENT BOOK | K10: RY | L10: Branches Pink | M10: FASHION | N10: WEEKLY/MONTHLY | O10: POCKET | P10: BLUESKY | Q10: BLUE SKY COLOR OF IMAGINATION
A11: 145152 | C11: 6116623 | E11: RETAIL ONLY N/A | F11: APPT. BOOKS/PLANNERS | G11: 422 DATED BOOKS/REFILLS | H11: 27 APPT BOOKS/PLANNERS | I11: ASMBLD Planning Calendar AMB Gray 2 PP 8.5x11 RY24 Wkly/Mthly Safety Wirebound - | J11: WEEKLY APPOINTMENT BOOK | K11: RY | L11: ASMBLD -grey | M11: CORE | N11: WEEKLY/MONTHLY | O11: LARGE | P11: BLUESKY | Q11: BLUE SKY COLOR OF IMAGINATION
A12: 142991 | C12: 6117646 | E12: RETAIL ONLY N/A | F12: APPT. BOOKS/PLANNERS | G12: 422 DATED BOOKS/REFILLS | H12: 27 APPT BOOKS/PLANNERS | I12: Planning Calendar Navy Blue/Enterprise PP 5x8 RY24 Wkly/Mthly Safety Wirebound - | J12: WEEKLY APPOINTMENT BOOK | K12: RY | L12: Navy Blue/Enterprise | M12: FASHION | N12: WEEKLY/MONTHLY | O12: SMALL | P12: BLUESKY | Q12: BLUE SKY COLOR OF IMAGINATION
A13: 138996 | B13: 138996 | C13: 6201670 | D13: 6201670 | E13: RETAIL ONLY N/A | F13: ORGANIZER | G13: 422 DATED BOOKS/REFILLS | H13: 27 APPT BOOKS/PLANNERS | I13: PLANNER,5X8,FL TAN,RY23,NONDTD | J13: BINDER | K13: RY | L13: ASMBLD -TAN | M13: FASHION | N13: UNDATED | O13: SMALL | P13: BLUESKY | Q13: BLUE SKY COLOR OF IMAGINATION
A14: 143943 | C14: 6239776 | E14: RETAIL ONLY N/A | F14: APPT. BOOKS/PLANNERS | G14: 422 DATED BOOKS/REFILLS | H14: 27 APPT BOOKS/PLANNERS | I14: Sustainability Planning Calendar BSS Branches Pink Textured Folded Artcard 8.5x11 RY24 Wkly/Mthly Safety Wirebound - | J14: WEEKLY APPOINTMENT BOOK | K14: RY | L14: Branches Pink | M14: FASHION | N14: WEEKLY/MONTHLY | O14: LARGE | P14: BLUESKY | Q14: BLUE SKY COLOR OF IMAGINATION
A15: 144065 | C15: 6287966 | E15: RETAIL ONLY N/A | F15: APPT. BOOKS/PLANNERS | G15: 422 DATED BOOKS/REFILLS | H15: 27 APPT BOOKS/PLANNERS | I15: Planning Calendar Notes BS Brosnan Clear PET 5.875x8.625 RY24 Wkly/Mthly Safety Wirebound - | J15: WEEKLY APPOINTMENT BOOK | K15: RY | L15: Brosnan | M15: FASHION | N15: WEEKLY/MONTHLY | O15: SMALL | P15: BLUESKY | Q15: BLUE SKY COLOR OF IMAGINATION
A16: 143991 | B16: 138994 | C16: 6603167 | D16: 9554948 | E16: RETAIL ONLY N/A | F16: ORGANIZER | G16: 422 DATED BOOKS/REFILLS | H16: 27 APPT BOOKS/PLANNERS | I16: PLANNER,5X8,FL TAN,RY23,WM | J16: BINDER | K16: RY | L16: ASMBLD -TAN | M16: FASHION | N16: WEEKLY | O16: SMALL | P16: BLUESKY | Q16: BLUE SKY COLOR OF IMAGINATION
A17: 143358 | C17: 6788500 | E17: RETAIL ONLY N/A | F17: APPT. BOOKS/PLANNERS | G17: 422 DATED BOOKS/REFILLS | H17: 27 APPT BOOKS/PLANNERS | I17: inkWELL Press Planning Calendar IWP Airia Gray Frosted PP 8.5x11 RY24 Wkly/Mthly Safety Wirebound - | J17: WEEKLY APPOINTMENT BOOK | K17: RY | L17: Airia | M17: FASHION | N17: WEEKLY/MONTHLY | O17: LARGE | P17: BLUESKY | Q17: BLUE SKY COLOR OF IMAGINATION
A18: 143989 | B18: 138993 | C18: 6903284 | D18: 9020986 | E18: RETAIL ONLY N/A | F18: ORGANIZER | G18: 422 DATED BOOKS/REFILLS | H18: 27 APPT BOOKS/PLANNERS | I18: PLANNER,8X11,FL TAN,RY23,WM | J18: BINDER | K18: RY | L18: ASMBLD -TAN | M18: FASHION | N18: WEEKLY | O18: LARGE | P18: BLUESKY | Q18: BLUE SKY COLOR OF IMAGINATION
A19: 143971 | C19: 6976145 | E19: RETAIL ONLY N/A | F19: APPT. BOOKS/PLANNERS | G19: 422 DATED BOOKS/REFILLS | H19: 27 APPT BOOKS/PLANNERS | I19: Planning Calendar BS Tula PP 8.5x11 RY24 Wkly/Mthly Safety Wirebound - | J19: WEEKLY APPOINTMENT BOOK | K19: RY | L19: Tula | M19: FASHION | N19: WEEKLY/MONTHLY | O19: LARGE | P19: BLUESKY | Q19: BLUE SKY COLOR OF IMAGINATION
A20: 143944 | C20: 7083922 | E20: RETAIL ONLY N/A | F20: APPT. BOOKS/PLANNERS | G20: 422 DATED BOOKS/REFILLS | H20: 27 APPT BOOKS/PLANNERS | I20: Sustainability Planning Calendar BSS Branches Pink Textured Folded Artcard 5x8 RY24 Wkly/Mthly Safety Wirebound - | J20: WEEKLY APPOINTMENT BOOK | K20: RY | L20: Branches Pink | M20: FASHION | N20: WEEKLY/MONTHLY | O20: SMALL | P20: BLUESKY | Q20: BLUE SKY COLOR OF IMAGINATION
A21: 143964 | C21: 7296249 | E21: RETAIL ONLY N/A | F21: APPT. BOOKS/PLANNERS | G21: 422 DATED BOOKS/REFILLS | H21: 27 APPT BOOKS/PLANNERS | I21: Planning Calendar BS Eugene/Solid Sea Glass PP 8.5x11 RY24 Wkly/Mthly Safety Wirebound - | J21: WEEKLY APPOINTMENT BOOK | K21: RY | L21: Eugene/Sea Glass | M21: FASHION | N21: WEEKLY/MONTHLY | O21: LARGE | P21: BLUESKY | Q21: BLUE SKY COLOR OF IMAGINATION
A22: 143976 | B22: 138998 | C22: 7325729 | D22: 8582413 | E22: RETAIL ONLY N/A | F22: APPT. BOOKS/PLANNERS | G22: 422 DATED BOOKS/REFILLS | H22: 27 APPT BOOKS/PLANNERS | I22: PLANNER,5X8,FL PASSAGE,RY23,WM | J22: WEEKLY APPOINTMENT BOOK | K22: RY | L22: Passages | M22: CORE | N22: WEEKLY/MONTHLY | O22: SMALL | P22: BLUESKY | Q22: BLUE SKY COLOR OF IMAGINATION
A23: 143357 | C23: 7488607 | E23: RETAIL ONLY N/A | F23: APPT. BOOKS/PLANNERS | G23: 422 DATED BOOKS/REFILLS | H23: 27 APPT BOOKS/PLANNERS | I23: inkWELL Press Planning Calendar Notes IWP Airia Gray Frosted PP 5.875x8.625 RY24 Wkly/Mthly Safety Wirebound - | J23: WEEKLY APPOINTMENT BOOK | K23: RY | L23: Airia | M23: FASHION | N23: WEEKLY/MONTHLY | O23: SMALL | P23: BLUESKY | Q23: BLUE SKY COLOR OF IMAGINATION
A24: 143959 | C24: 7520729 | E24: RETAIL ONLY N/A | F24: APPT. BOOKS/PLANNERS | G24: 422 DATED BOOKS/REFILLS | H24: 27 APPT BOOKS/PLANNERS | I24: Planning Calendar BS Ashlyn Navy Clear 3.625x6.125 RY24 Monthly Stapled - | J24: WEEKLY APPOINTMENT BOOK | K24: RY | L24: Ashlyn Navy | M24: FASHION | N24: WEEKLY/MONTHLY | O24: POCKET | P24: BLUESKY | Q24: BLUE SKY COLOR OF IMAGINATION
A25: 142877 | C25: 7619424 | E25: RETAIL ONLY N/A | F25: APPT. BOOKS/PLANNERS | G25: 422 DATED BOOKS/REFILLS | H25: 27 APPT BOOKS/PLANNERS | I25: inkWELL Press Planning Calendar IWP Tavi CYO 8.5x11 RY24 Wkly/Mthly Safety Wirebound - | J25: WEEKLY APPOINTMENT BOOK | K25: RY | L25: Tavi | M25: FASHION | N25: WEEKLY/MONTHLY | O25: LARGE | P25: BLUESKY | Q25: BLUE SKY COLOR OF IMAGINATION
A26: 143965 | C26: 7752309 | E26: RETAIL ONLY N/A | F26: APPT. BOOKS/PLANNERS | G26: 422 DATED BOOKS/REFILLS | H26: 27 APPT BOOKS/PLANNERS | I26: Planning Calendar BS Carlsen Clear PET 5x8 RY24 Wkly/Mthly Safety Wirebound - | J26: WEEKLY APPOINTMENT BOOK | K26: RY | L26: Carlsen | M26: FASHION | N26: WEEKLY/MONTHLY | O26: SMALL | P26: BLUESKY | Q26: BLUE SKY COLOR OF IMAGINATION
A27: 143958 | C27: 7920962 | E27: RETAIL ONLY N/A | F27: APPT. BOOKS/PLANNERS | G27: 422 DATED BOOKS/REFILLS | H27: 27 APPT BOOKS/PLANNERS | I27: Planning Calendar BS Ashlyn Navy PP 5x8 RY24 Wkly/Mthly Safety Wirebound - | J27: WEEKLY APPOINTMENT BOOK | K27: RY | L27: Ashlyn Navy | M27: FASHION | N27: WEEKLY/MONTHLY | O27: SMALL | P27: BLUESKY | Q27: BLUE SKY COLOR OF IMAGINATION
A28: 143963 | C28: 7970933 | E28: RETAIL ONLY N/A | F28: APPT. BOOKS/PLANNERS | G28: 422 DATED BOOKS/REFILLS | H28: 27 APPT BOOKS/PLANNERS | I28: Planning Calendar BS Carlsen Clear PET 8.5x11 RY24 Wkly/Mthly Safety Wirebound - | J28: WEEKLY APPOINTMENT BOOK | K28: RY | L28: Carlsen | M28: FASHION | N28: WEEKLY/MONTHLY | O28: LARGE | P28: BLUESKY | Q28: BLUE SKY COLOR OF IMAGINATION
A29: 144063 | C29: 7986462 | E29: RETAIL ONLY N/A | F29: APPT. BOOKS/PLANNERS | G29: 422 DATED BOOKS/REFILLS | H29: 27 APPT BOOKS/PLANNERS | I29: Planning Calendar BS Brosnan Clear PET 8.5x11 RY24 Wkly/Mthly Safety Wirebound - | J29: WEEKLY APPOINTMENT BOOK | K29: RY | L29: Brosnan | M29: FASHION | N29: WEEKLY/MONTHLY | O29: LARGE | P29: BLUESKY | Q29: BLUE SKY COLOR OF IMAGINATION
A30: 143966 | C30: 8155482 | E30: RETAIL ONLY N/A | F30: APPT. BOOKS/PLANNERS | G30: 422 DATED BOOKS/REFILLS | H30: 27 APPT BOOKS/PLANNERS | I30: Planning Calendar BS Eugene/Solid Sea Glass PP 5x8 RY24 Wkly/Mthly Safety Wirebound - | J30: WEEKLY APPOINTMENT BOOK | K30: RY | L30: Eugene/Sea Glass | M30: FASHION | N30: WEEKLY/MONTHLY | O30: SMALL | P30: BLUESKY | Q30: BLUE SKY COLOR OF IMAGINATION
A31: 145154 | C31: 8321889 | E31: RETAIL ONLY N/A | F31: APPT. BOOKS/PLANNERS | G31: 422 DATED BOOKS/REFILLS | H31: 27 APPT BOOKS/PLANNERS | I31: ASMBLD Planning Calendar AMB Gray 2 PP 5x8 RY24 Wkly/Mthly Safety Wirebound - | J31: WEEKLY APPOINTMENT BOOK | K31: RY | L31: ASMBLD -grey | M31: CORE | N31: WEEKLY/MONTHLY | O31: SMALL | P31: BLUESKY | Q31: BLUE SKY COLOR OF IMAGINATION
A32: 143975 | B32: 138997 | C32: 8731272 | D32: 6032068 | E32: RETAIL ONLY N/A | F32: APPT. BOOKS/PLANNERS | G32: 422 DATED BOOKS/REFILLS | H32: 27 APPT BOOKS/PLANNERS | I32: PLANNER,8X11,FL PSGES,RY23,WM | J32: WEEKLY APPOINTMENT BOOK | K32: RY | L32: Passages | M32: CORE | N32: WEEKLY/MONTHLY | O32: LARGE | P32: BLUESKY | Q32: BLUE SKY COLOR OF IMAGINATION
A33: 145153 | C33: 8968592 | E33: RETAIL ONLY N/A | F33: APPT. BOOKS/PLANNERS | G33: 422 DATED BOOKS/REFILLS | H33: 27 APPT BOOKS/PLANNERS | I33: ASMBLD Planning Calendar AMB Gray 2 PP 7x9 RY24 Wkly/Mthly Safety Wirebound - | J33: WEEKLY APPOINTMENT BOOK | K33: RY | L33: ASMBLD -grey | M33: CORE | N33: WEEKLY/MONTHLY | O33: MEDIUM | P33: BLUESKY | Q33: BLUE SKY COLOR OF IMAGINATION
A34: 143990 | B34: 138995 | C34: 9034496 | D34: 8482200 | E34: RETAIL ONLY N/A | F34: ORGANIZER | G34: 422 DATED BOOKS/REFILLS | H34: 27 APPT BOOKS/PLANNERS | I34: PLANNER,7X9,FL TAN,RY23,MTHLY | J34: BINDER | K34: RY | L34: ASMBLD -TAN | M34: FASHION | N34: MONTHLY | O34: MEDIUM | P34: BLUESKY | Q34: BLUE SKY COLOR OF IMAGINATION
